BEGIN:VCALENDAR
VERSION:2.0
PRODID:-//Little Village Pub - ECPv6.15.20//NONSGML v1.0//EN
CALSCALE:GREGORIAN
METHOD:PUBLISH
X-WR-CALNAME:Little Village Pub
X-ORIGINAL-URL:https://littlevillagepub.com
X-WR-CALDESC:Events for Little Village Pub
REFRESH-INTERVAL;VALUE=DURATION:PT1H
X-Robots-Tag:noindex
X-PUBLISHED-TTL:PT1H
BEGIN:VTIMEZONE
TZID:America/Chicago
BEGIN:DAYLIGHT
TZOFFSETFROM:-0600
TZOFFSETTO:-0500
TZNAME:CDT
DTSTART:20250309T080000
END:DAYLIGHT
BEGIN:STANDARD
TZOFFSETFROM:-0500
TZOFFSETTO:-0600
TZNAME:CST
DTSTART:20251102T070000
END:STANDARD
BEGIN:DAYLIGHT
TZOFFSETFROM:-0600
TZOFFSETTO:-0500
TZNAME:CDT
DTSTART:20260308T080000
END:DAYLIGHT
BEGIN:STANDARD
TZOFFSETFROM:-0500
TZOFFSETTO:-0600
TZNAME:CST
DTSTART:20261101T070000
END:STANDARD
BEGIN:DAYLIGHT
TZOFFSETFROM:-0600
TZOFFSETTO:-0500
TZNAME:CDT
DTSTART:20270314T080000
END:DAYLIGHT
BEGIN:STANDARD
TZOFFSETFROM:-0500
TZOFFSETTO:-0600
TZNAME:CST
DTSTART:20271107T070000
END:STANDARD
END:VTIMEZONE
BEGIN:VEVENT
DTSTART;TZID=America/Chicago:20260214T080000
DTEND;TZID=America/Chicago:20260214T220000
DTSTAMP:20260419T131227
CREATED:20260211T150957Z
LAST-MODIFIED:20260211T150957Z
UID:10002912-1771056000-1771106400@littlevillagepub.com
SUMMARY:Valentine's Day Dessert Deal at Little Village Pub
DESCRIPTION:Treat your sweetheart to something sweet this Valentine’s Day at Little Village Pub! \nJoin us on February 14th for a special Valentine’s deal — spend $50 or more on food and drinks and get 50% off dessert! \nNo reservations required. No fuss. Just bring that special someone (or your whole crew) to your favorite White Bear Lake bar and grill for great food\, cold drinks\, and a sweet ending to the night. \nThe Deal: \n\nSpend $50 or more\nGet 50% off dessert\nDine-in only | February 14th only
URL:https://littlevillagepub.com/event/valentines-day-dessert-deal-at-little-village-pub/
LOCATION:Little Village Pub\, 2670 Co Rd E East\, White Bear Lake\, MN\, 55110\, United States
ATTACH;FMTTYPE=image/jpeg:https://littlevillagepub.com/wp-content/uploads/2026/02/Val-special-2026-LVP.jpg
END:VEVENT
BEGIN:VEVENT
DTSTART;TZID=America/Chicago:20260214T090000
DTEND;TZID=America/Chicago:20260214T230000
DTSTAMP:20260419T131227
CREATED:20250715T151441Z
LAST-MODIFIED:20250716T184141Z
UID:10001072-1771059600-1771110000@littlevillagepub.com
SUMMARY:Saturday Breakfast Bingo
DESCRIPTION:Breakfast 8am | Bingo 9am.\n$1000 Coverall\, gift cards and more! Hosted by: Merrick Charitable Gambling 
URL:https://littlevillagepub.com/event/saturday-breakfast-bingo/2026-02-14/
LOCATION:Little Village Pub\, 2670 Co Rd E East\, White Bear Lake\, MN\, 55110\, United States
ATTACH;FMTTYPE=image/png:https://littlevillagepub.com/wp-content/uploads/2025/07/Saturday-Bingo-LVP.png
END:VEVENT
BEGIN:VEVENT
DTSTART;TZID=America/Chicago:20260214T210000
DTEND;TZID=America/Chicago:20260215T010000
DTSTAMP:20260419T131227
CREATED:20250715T151929Z
LAST-MODIFIED:20250716T184011Z
UID:10001330-1771102800-1771117200@littlevillagepub.com
SUMMARY:Saturday Night Karaoke
DESCRIPTION:Starts at 9:00pm -1:00am\n\n\n\n\nCome on in and sing Karaoke with Ick every Saturday night!
URL:https://littlevillagepub.com/event/saturday-night-karaoke/2026-02-14/
LOCATION:Little Village Pub\, 2670 Co Rd E East\, White Bear Lake\, MN\, 55110\, United States
ATTACH;FMTTYPE=image/jpeg:https://littlevillagepub.com/wp-content/uploads/2025/07/Karaoke_cable-guy.jpg
END:VEVENT
END:VCALENDAR