BEGIN:VCALENDAR
VERSION:2.0
PRODID:-//Little Village Pub - ECPv6.15.20//NONSGML v1.0//EN
CALSCALE:GREGORIAN
METHOD:PUBLISH
X-WR-CALNAME:Little Village Pub
X-ORIGINAL-URL:https://littlevillagepub.com
X-WR-CALDESC:Events for Little Village Pub
REFRESH-INTERVAL;VALUE=DURATION:PT1H
X-Robots-Tag:noindex
X-PUBLISHED-TTL:PT1H
BEGIN:VTIMEZONE
TZID:America/Chicago
BEGIN:DAYLIGHT
TZOFFSETFROM:-0600
TZOFFSETTO:-0500
TZNAME:CDT
DTSTART:20280312T080000
END:DAYLIGHT
BEGIN:STANDARD
TZOFFSETFROM:-0500
TZOFFSETTO:-0600
TZNAME:CST
DTSTART:20281105T070000
END:STANDARD
BEGIN:DAYLIGHT
TZOFFSETFROM:-0600
TZOFFSETTO:-0500
TZNAME:CDT
DTSTART:20290311T080000
END:DAYLIGHT
BEGIN:STANDARD
TZOFFSETFROM:-0500
TZOFFSETTO:-0600
TZNAME:CST
DTSTART:20291104T070000
END:STANDARD
BEGIN:DAYLIGHT
TZOFFSETFROM:-0600
TZOFFSETTO:-0500
TZNAME:CDT
DTSTART:20300310T080000
END:DAYLIGHT
BEGIN:STANDARD
TZOFFSETFROM:-0500
TZOFFSETTO:-0600
TZNAME:CST
DTSTART:20301103T070000
END:STANDARD
END:VTIMEZONE
BEGIN:VEVENT
DTSTART;TZID=America/Chicago:20290630T210000
DTEND;TZID=America/Chicago:20290701T010000
DTSTAMP:20260421T000626
CREATED:20250715T151929Z
LAST-MODIFIED:20250716T184011Z
UID:10001506-1877547600-1877562000@littlevillagepub.com
SUMMARY:Saturday Night Karaoke
DESCRIPTION:Starts at 9:00pm -1:00am\n\n\n\n\nCome on in and sing Karaoke with Ick every Saturday night!
URL:https://littlevillagepub.com/event/saturday-night-karaoke/2029-06-30/
LOCATION:Little Village Pub\, 2670 Co Rd E East\, White Bear Lake\, MN\, 55110\, United States
ATTACH;FMTTYPE=image/jpeg:https://littlevillagepub.com/wp-content/uploads/2025/07/Karaoke_cable-guy.jpg
END:VEVENT
BEGIN:VEVENT
DTSTART;TZID=America/Chicago:20290701T090000
DTEND;TZID=America/Chicago:20290701T110000
DTSTAMP:20260421T000626
CREATED:20250908T191738Z
LAST-MODIFIED:20250908T191738Z
UID:10001764-1877590800-1877598000@littlevillagepub.com
SUMMARY:Sunday Breakfast Bingo
DESCRIPTION:Breakfast Bingo! 9am.\n$1000 Coverall\, gift cards and more! Hosted by: Merrick Charitable Gambling 
URL:https://littlevillagepub.com/event/sunday-breakfast-bingo-2/2029-07-01/
LOCATION:Little Village Pub\, 2670 Co Rd E East\, White Bear Lake\, MN\, 55110\, United States
ATTACH;FMTTYPE=image/png:https://littlevillagepub.com/wp-content/uploads/2025/03/Sunday-Bingo-LVP.png
END:VEVENT
BEGIN:VEVENT
DTSTART;TZID=America/Chicago:20290701T180000
DTEND;TZID=America/Chicago:20290701T200000
DTSTAMP:20260421T000626
CREATED:20250715T152209Z
LAST-MODIFIED:20250716T184504Z
UID:10002297-1877623200-1877630400@littlevillagepub.com
SUMMARY:Sunday Trivia
DESCRIPTION:Trivia at 6:00pm\n\n\n\n\nWin prizes with our friends from Get A Clu Trivia!\nWin gift cards\, swag prizes\, trophies and more.\nPLUS ALL DAY HAPPY HOUR!!!
URL:https://littlevillagepub.com/event/sunday-trivia/2029-07-01/
LOCATION:Little Village Pub\, 2670 Co Rd E East\, White Bear Lake\, MN\, 55110\, United States
ATTACH;FMTTYPE=image/jpeg:https://littlevillagepub.com/wp-content/uploads/2025/07/Sunday-Funday_trivia.jpg
END:VEVENT
BEGIN:VEVENT
DTSTART;TZID=America/Chicago:20290702T183000
DTEND;TZID=America/Chicago:20290702T213000
DTSTAMP:20260421T000626
CREATED:20250908T191848Z
LAST-MODIFIED:20250908T192059Z
UID:10000215-1877711400-1877722200@littlevillagepub.com
SUMMARY:COACH PURSE BINGO
DESCRIPTION:Win that purse you’ve always wanted\, every Monday except the 3rd Monday of each month!\nStarts at 6:30pm.\nHosted by: Merrick Inc Charitable Gambling
URL:https://littlevillagepub.com/event/coach-purse-bingo-2/2029-07-02/
LOCATION:Little Village Pub\, 2670 Co Rd E East\, White Bear Lake\, MN\, 55110\, United States
ATTACH;FMTTYPE=image/jpeg:https://littlevillagepub.com/wp-content/uploads/2025/07/Coach-Purse-Bingo_Monday_Xmas-crew.jpg
END:VEVENT
BEGIN:VEVENT
DTSTART;TZID=America/Chicago:20290703T170000
DTEND;TZID=America/Chicago:20290703T200000
DTSTAMP:20260421T000626
CREATED:20250715T150237Z
LAST-MODIFIED:20250716T184227Z
UID:10000474-1877792400-1877803200@littlevillagepub.com
SUMMARY:Kids Eat Free!!!
DESCRIPTION:KIDS EAT FREE!\n\n\n\n\nKids 12 and under eat free 5-8pm.\n\n\n\n\n1 free kids meal per 1 adult meal.
URL:https://littlevillagepub.com/event/kids-eat-free/2029-07-03/
LOCATION:Little Village Pub\, 2670 Co Rd E East\, White Bear Lake\, MN\, 55110\, United States
ATTACH;FMTTYPE=image/jpeg:https://littlevillagepub.com/wp-content/uploads/2025/07/kids-eat-free-5-26-25.jpg
END:VEVENT
BEGIN:VEVENT
DTSTART;TZID=America/Chicago:20290704T200000
DTEND;TZID=America/Chicago:20290704T235900
DTSTAMP:20260421T000626
CREATED:20250715T150507Z
LAST-MODIFIED:20250716T184124Z
UID:10000733-1877889600-1877903940@littlevillagepub.com
SUMMARY:Karaoke Night!
DESCRIPTION:KARAOKE NIGHT\n\n\n\n\nStarts at 8:00pm -12:00am every other Wed\nCome on in and sing Karaoke with Twilight Karaoke every other Wed night!
URL:https://littlevillagepub.com/event/karaoke-night/2029-07-04/
LOCATION:Little Village Pub\, 2670 Co Rd E East\, White Bear Lake\, MN\, 55110\, United States
ATTACH;FMTTYPE=image/png:https://littlevillagepub.com/wp-content/uploads/2025/07/Karaoke-Wednesdays-new-LVP.png
END:VEVENT
BEGIN:VEVENT
DTSTART;TZID=America/Chicago:20290706T173000
DTEND;TZID=America/Chicago:20290706T193000
DTSTAMP:20260421T000626
CREATED:20250715T151133Z
LAST-MODIFIED:20250717T180918Z
UID:10002558-1878053400-1878060600@littlevillagepub.com
SUMMARY:Meat Raffle
DESCRIPTION:Starts at 5:30pm\n\n\n\n\nWin some meats from Borchert Meat Market!
URL:https://littlevillagepub.com/event/meat-raffle/2029-07-06/
LOCATION:Little Village Pub\, 2670 Co Rd E East\, White Bear Lake\, MN\, 55110\, United States
ATTACH;FMTTYPE=image/jpeg:https://littlevillagepub.com/wp-content/uploads/2025/07/Meat-raffle-meat-dress.jpg
END:VEVENT
BEGIN:VEVENT
DTSTART;TZID=America/Chicago:20290707T090000
DTEND;TZID=America/Chicago:20290707T230000
DTSTAMP:20260421T000626
CREATED:20250715T151441Z
LAST-MODIFIED:20250716T184141Z
UID:10001249-1878109200-1878159600@littlevillagepub.com
SUMMARY:Saturday Breakfast Bingo
DESCRIPTION:Breakfast 8am | Bingo 9am.\n$1000 Coverall\, gift cards and more! Hosted by: Merrick Charitable Gambling 
URL:https://littlevillagepub.com/event/saturday-breakfast-bingo/2029-07-07/
LOCATION:Little Village Pub\, 2670 Co Rd E East\, White Bear Lake\, MN\, 55110\, United States
ATTACH;FMTTYPE=image/png:https://littlevillagepub.com/wp-content/uploads/2025/07/Saturday-Bingo-LVP.png
END:VEVENT
BEGIN:VEVENT
DTSTART;TZID=America/Chicago:20290707T210000
DTEND;TZID=America/Chicago:20290708T010000
DTSTAMP:20260421T000626
CREATED:20250715T151929Z
LAST-MODIFIED:20250716T184011Z
UID:10001507-1878152400-1878166800@littlevillagepub.com
SUMMARY:Saturday Night Karaoke
DESCRIPTION:Starts at 9:00pm -1:00am\n\n\n\n\nCome on in and sing Karaoke with Ick every Saturday night!
URL:https://littlevillagepub.com/event/saturday-night-karaoke/2029-07-07/
LOCATION:Little Village Pub\, 2670 Co Rd E East\, White Bear Lake\, MN\, 55110\, United States
ATTACH;FMTTYPE=image/jpeg:https://littlevillagepub.com/wp-content/uploads/2025/07/Karaoke_cable-guy.jpg
END:VEVENT
BEGIN:VEVENT
DTSTART;TZID=America/Chicago:20290708T090000
DTEND;TZID=America/Chicago:20290708T110000
DTSTAMP:20260421T000626
CREATED:20250908T191738Z
LAST-MODIFIED:20250908T191738Z
UID:10001765-1878195600-1878202800@littlevillagepub.com
SUMMARY:Sunday Breakfast Bingo
DESCRIPTION:Breakfast Bingo! 9am.\n$1000 Coverall\, gift cards and more! Hosted by: Merrick Charitable Gambling 
URL:https://littlevillagepub.com/event/sunday-breakfast-bingo-2/2029-07-08/
LOCATION:Little Village Pub\, 2670 Co Rd E East\, White Bear Lake\, MN\, 55110\, United States
ATTACH;FMTTYPE=image/png:https://littlevillagepub.com/wp-content/uploads/2025/03/Sunday-Bingo-LVP.png
END:VEVENT
BEGIN:VEVENT
DTSTART;TZID=America/Chicago:20290708T180000
DTEND;TZID=America/Chicago:20290708T200000
DTSTAMP:20260421T000626
CREATED:20250715T152209Z
LAST-MODIFIED:20250716T184504Z
UID:10002298-1878228000-1878235200@littlevillagepub.com
SUMMARY:Sunday Trivia
DESCRIPTION:Trivia at 6:00pm\n\n\n\n\nWin prizes with our friends from Get A Clu Trivia!\nWin gift cards\, swag prizes\, trophies and more.\nPLUS ALL DAY HAPPY HOUR!!!
URL:https://littlevillagepub.com/event/sunday-trivia/2029-07-08/
LOCATION:Little Village Pub\, 2670 Co Rd E East\, White Bear Lake\, MN\, 55110\, United States
ATTACH;FMTTYPE=image/jpeg:https://littlevillagepub.com/wp-content/uploads/2025/07/Sunday-Funday_trivia.jpg
END:VEVENT
BEGIN:VEVENT
DTSTART;TZID=America/Chicago:20290709T183000
DTEND;TZID=America/Chicago:20290709T213000
DTSTAMP:20260421T000626
CREATED:20250908T191848Z
LAST-MODIFIED:20250908T192059Z
UID:10000216-1878316200-1878327000@littlevillagepub.com
SUMMARY:COACH PURSE BINGO
DESCRIPTION:Win that purse you’ve always wanted\, every Monday except the 3rd Monday of each month!\nStarts at 6:30pm.\nHosted by: Merrick Inc Charitable Gambling
URL:https://littlevillagepub.com/event/coach-purse-bingo-2/2029-07-09/
LOCATION:Little Village Pub\, 2670 Co Rd E East\, White Bear Lake\, MN\, 55110\, United States
ATTACH;FMTTYPE=image/jpeg:https://littlevillagepub.com/wp-content/uploads/2025/07/Coach-Purse-Bingo_Monday_Xmas-crew.jpg
END:VEVENT
BEGIN:VEVENT
DTSTART;TZID=America/Chicago:20290710T170000
DTEND;TZID=America/Chicago:20290710T200000
DTSTAMP:20260421T000626
CREATED:20250715T150237Z
LAST-MODIFIED:20250716T184227Z
UID:10000475-1878397200-1878408000@littlevillagepub.com
SUMMARY:Kids Eat Free!!!
DESCRIPTION:KIDS EAT FREE!\n\n\n\n\nKids 12 and under eat free 5-8pm.\n\n\n\n\n1 free kids meal per 1 adult meal.
URL:https://littlevillagepub.com/event/kids-eat-free/2029-07-10/
LOCATION:Little Village Pub\, 2670 Co Rd E East\, White Bear Lake\, MN\, 55110\, United States
ATTACH;FMTTYPE=image/jpeg:https://littlevillagepub.com/wp-content/uploads/2025/07/kids-eat-free-5-26-25.jpg
END:VEVENT
BEGIN:VEVENT
DTSTART;TZID=America/Chicago:20290711T200000
DTEND;TZID=America/Chicago:20290711T235900
DTSTAMP:20260421T000626
CREATED:20250715T150507Z
LAST-MODIFIED:20250716T184124Z
UID:10000734-1878494400-1878508740@littlevillagepub.com
SUMMARY:Karaoke Night!
DESCRIPTION:KARAOKE NIGHT\n\n\n\n\nStarts at 8:00pm -12:00am every other Wed\nCome on in and sing Karaoke with Twilight Karaoke every other Wed night!
URL:https://littlevillagepub.com/event/karaoke-night/2029-07-11/
LOCATION:Little Village Pub\, 2670 Co Rd E East\, White Bear Lake\, MN\, 55110\, United States
ATTACH;FMTTYPE=image/png:https://littlevillagepub.com/wp-content/uploads/2025/07/Karaoke-Wednesdays-new-LVP.png
END:VEVENT
BEGIN:VEVENT
DTSTART;TZID=America/Chicago:20290713T173000
DTEND;TZID=America/Chicago:20290713T193000
DTSTAMP:20260421T000626
CREATED:20250715T151133Z
LAST-MODIFIED:20250717T180918Z
UID:10002559-1878658200-1878665400@littlevillagepub.com
SUMMARY:Meat Raffle
DESCRIPTION:Starts at 5:30pm\n\n\n\n\nWin some meats from Borchert Meat Market!
URL:https://littlevillagepub.com/event/meat-raffle/2029-07-13/
LOCATION:Little Village Pub\, 2670 Co Rd E East\, White Bear Lake\, MN\, 55110\, United States
ATTACH;FMTTYPE=image/jpeg:https://littlevillagepub.com/wp-content/uploads/2025/07/Meat-raffle-meat-dress.jpg
END:VEVENT
BEGIN:VEVENT
DTSTART;TZID=America/Chicago:20290714T090000
DTEND;TZID=America/Chicago:20290714T230000
DTSTAMP:20260421T000626
CREATED:20250715T151441Z
LAST-MODIFIED:20250716T184141Z
UID:10001250-1878714000-1878764400@littlevillagepub.com
SUMMARY:Saturday Breakfast Bingo
DESCRIPTION:Breakfast 8am | Bingo 9am.\n$1000 Coverall\, gift cards and more! Hosted by: Merrick Charitable Gambling 
URL:https://littlevillagepub.com/event/saturday-breakfast-bingo/2029-07-14/
LOCATION:Little Village Pub\, 2670 Co Rd E East\, White Bear Lake\, MN\, 55110\, United States
ATTACH;FMTTYPE=image/png:https://littlevillagepub.com/wp-content/uploads/2025/07/Saturday-Bingo-LVP.png
END:VEVENT
BEGIN:VEVENT
DTSTART;TZID=America/Chicago:20290714T210000
DTEND;TZID=America/Chicago:20290715T010000
DTSTAMP:20260421T000626
CREATED:20250715T151929Z
LAST-MODIFIED:20250716T184011Z
UID:10001508-1878757200-1878771600@littlevillagepub.com
SUMMARY:Saturday Night Karaoke
DESCRIPTION:Starts at 9:00pm -1:00am\n\n\n\n\nCome on in and sing Karaoke with Ick every Saturday night!
URL:https://littlevillagepub.com/event/saturday-night-karaoke/2029-07-14/
LOCATION:Little Village Pub\, 2670 Co Rd E East\, White Bear Lake\, MN\, 55110\, United States
ATTACH;FMTTYPE=image/jpeg:https://littlevillagepub.com/wp-content/uploads/2025/07/Karaoke_cable-guy.jpg
END:VEVENT
BEGIN:VEVENT
DTSTART;TZID=America/Chicago:20290715T090000
DTEND;TZID=America/Chicago:20290715T110000
DTSTAMP:20260421T000626
CREATED:20250908T191738Z
LAST-MODIFIED:20250908T191738Z
UID:10001766-1878800400-1878807600@littlevillagepub.com
SUMMARY:Sunday Breakfast Bingo
DESCRIPTION:Breakfast Bingo! 9am.\n$1000 Coverall\, gift cards and more! Hosted by: Merrick Charitable Gambling 
URL:https://littlevillagepub.com/event/sunday-breakfast-bingo-2/2029-07-15/
LOCATION:Little Village Pub\, 2670 Co Rd E East\, White Bear Lake\, MN\, 55110\, United States
ATTACH;FMTTYPE=image/png:https://littlevillagepub.com/wp-content/uploads/2025/03/Sunday-Bingo-LVP.png
END:VEVENT
BEGIN:VEVENT
DTSTART;TZID=America/Chicago:20290715T180000
DTEND;TZID=America/Chicago:20290715T200000
DTSTAMP:20260421T000626
CREATED:20250715T152209Z
LAST-MODIFIED:20250716T184504Z
UID:10002299-1878832800-1878840000@littlevillagepub.com
SUMMARY:Sunday Trivia
DESCRIPTION:Trivia at 6:00pm\n\n\n\n\nWin prizes with our friends from Get A Clu Trivia!\nWin gift cards\, swag prizes\, trophies and more.\nPLUS ALL DAY HAPPY HOUR!!!
URL:https://littlevillagepub.com/event/sunday-trivia/2029-07-15/
LOCATION:Little Village Pub\, 2670 Co Rd E East\, White Bear Lake\, MN\, 55110\, United States
ATTACH;FMTTYPE=image/jpeg:https://littlevillagepub.com/wp-content/uploads/2025/07/Sunday-Funday_trivia.jpg
END:VEVENT
BEGIN:VEVENT
DTSTART;TZID=America/Chicago:20290716T183000
DTEND;TZID=America/Chicago:20290716T213000
DTSTAMP:20260421T000626
CREATED:20250818T181937Z
LAST-MODIFIED:20250818T182126Z
UID:10002868-1878921000-1878931800@littlevillagepub.com
SUMMARY:MANCAVE BINGO
DESCRIPTION:Win Manly prizes\, every 3rd Monday of each month!\nWin tools\, sports tickets\, coolers\, gift cards TVs and more!\nStarts at 6:30pm.\nHosted by: Merrick Inc Charitable Gambling
URL:https://littlevillagepub.com/event/mancave-bingo/2029-07-16/
LOCATION:Little Village Pub\, 2670 Co Rd E East\, White Bear Lake\, MN\, 55110\, United States
ATTACH;FMTTYPE=image/png:https://littlevillagepub.com/wp-content/uploads/2025/08/Man-Cave-Bingo-LVP-v2.png
END:VEVENT
BEGIN:VEVENT
DTSTART;TZID=America/Chicago:20290717T170000
DTEND;TZID=America/Chicago:20290717T200000
DTSTAMP:20260421T000626
CREATED:20250715T150237Z
LAST-MODIFIED:20250716T184227Z
UID:10000476-1879002000-1879012800@littlevillagepub.com
SUMMARY:Kids Eat Free!!!
DESCRIPTION:KIDS EAT FREE!\n\n\n\n\nKids 12 and under eat free 5-8pm.\n\n\n\n\n1 free kids meal per 1 adult meal.
URL:https://littlevillagepub.com/event/kids-eat-free/2029-07-17/
LOCATION:Little Village Pub\, 2670 Co Rd E East\, White Bear Lake\, MN\, 55110\, United States
ATTACH;FMTTYPE=image/jpeg:https://littlevillagepub.com/wp-content/uploads/2025/07/kids-eat-free-5-26-25.jpg
END:VEVENT
BEGIN:VEVENT
DTSTART;TZID=America/Chicago:20290718T200000
DTEND;TZID=America/Chicago:20290718T235900
DTSTAMP:20260421T000626
CREATED:20250715T150507Z
LAST-MODIFIED:20250716T184124Z
UID:10000735-1879099200-1879113540@littlevillagepub.com
SUMMARY:Karaoke Night!
DESCRIPTION:KARAOKE NIGHT\n\n\n\n\nStarts at 8:00pm -12:00am every other Wed\nCome on in and sing Karaoke with Twilight Karaoke every other Wed night!
URL:https://littlevillagepub.com/event/karaoke-night/2029-07-18/
LOCATION:Little Village Pub\, 2670 Co Rd E East\, White Bear Lake\, MN\, 55110\, United States
ATTACH;FMTTYPE=image/png:https://littlevillagepub.com/wp-content/uploads/2025/07/Karaoke-Wednesdays-new-LVP.png
END:VEVENT
BEGIN:VEVENT
DTSTART;TZID=America/Chicago:20290720T173000
DTEND;TZID=America/Chicago:20290720T193000
DTSTAMP:20260421T000626
CREATED:20250715T151133Z
LAST-MODIFIED:20250717T180918Z
UID:10002560-1879263000-1879270200@littlevillagepub.com
SUMMARY:Meat Raffle
DESCRIPTION:Starts at 5:30pm\n\n\n\n\nWin some meats from Borchert Meat Market!
URL:https://littlevillagepub.com/event/meat-raffle/2029-07-20/
LOCATION:Little Village Pub\, 2670 Co Rd E East\, White Bear Lake\, MN\, 55110\, United States
ATTACH;FMTTYPE=image/jpeg:https://littlevillagepub.com/wp-content/uploads/2025/07/Meat-raffle-meat-dress.jpg
END:VEVENT
BEGIN:VEVENT
DTSTART;TZID=America/Chicago:20290721T090000
DTEND;TZID=America/Chicago:20290721T230000
DTSTAMP:20260421T000626
CREATED:20250715T151441Z
LAST-MODIFIED:20250716T184141Z
UID:10001251-1879318800-1879369200@littlevillagepub.com
SUMMARY:Saturday Breakfast Bingo
DESCRIPTION:Breakfast 8am | Bingo 9am.\n$1000 Coverall\, gift cards and more! Hosted by: Merrick Charitable Gambling 
URL:https://littlevillagepub.com/event/saturday-breakfast-bingo/2029-07-21/
LOCATION:Little Village Pub\, 2670 Co Rd E East\, White Bear Lake\, MN\, 55110\, United States
ATTACH;FMTTYPE=image/png:https://littlevillagepub.com/wp-content/uploads/2025/07/Saturday-Bingo-LVP.png
END:VEVENT
BEGIN:VEVENT
DTSTART;TZID=America/Chicago:20290721T210000
DTEND;TZID=America/Chicago:20290722T010000
DTSTAMP:20260421T000626
CREATED:20250715T151929Z
LAST-MODIFIED:20250716T184011Z
UID:10001509-1879362000-1879376400@littlevillagepub.com
SUMMARY:Saturday Night Karaoke
DESCRIPTION:Starts at 9:00pm -1:00am\n\n\n\n\nCome on in and sing Karaoke with Ick every Saturday night!
URL:https://littlevillagepub.com/event/saturday-night-karaoke/2029-07-21/
LOCATION:Little Village Pub\, 2670 Co Rd E East\, White Bear Lake\, MN\, 55110\, United States
ATTACH;FMTTYPE=image/jpeg:https://littlevillagepub.com/wp-content/uploads/2025/07/Karaoke_cable-guy.jpg
END:VEVENT
BEGIN:VEVENT
DTSTART;TZID=America/Chicago:20290722T090000
DTEND;TZID=America/Chicago:20290722T110000
DTSTAMP:20260421T000626
CREATED:20250908T191738Z
LAST-MODIFIED:20250908T191738Z
UID:10001767-1879405200-1879412400@littlevillagepub.com
SUMMARY:Sunday Breakfast Bingo
DESCRIPTION:Breakfast Bingo! 9am.\n$1000 Coverall\, gift cards and more! Hosted by: Merrick Charitable Gambling 
URL:https://littlevillagepub.com/event/sunday-breakfast-bingo-2/2029-07-22/
LOCATION:Little Village Pub\, 2670 Co Rd E East\, White Bear Lake\, MN\, 55110\, United States
ATTACH;FMTTYPE=image/png:https://littlevillagepub.com/wp-content/uploads/2025/03/Sunday-Bingo-LVP.png
END:VEVENT
BEGIN:VEVENT
DTSTART;TZID=America/Chicago:20290722T180000
DTEND;TZID=America/Chicago:20290722T200000
DTSTAMP:20260421T000626
CREATED:20250715T152209Z
LAST-MODIFIED:20250716T184504Z
UID:10002300-1879437600-1879444800@littlevillagepub.com
SUMMARY:Sunday Trivia
DESCRIPTION:Trivia at 6:00pm\n\n\n\n\nWin prizes with our friends from Get A Clu Trivia!\nWin gift cards\, swag prizes\, trophies and more.\nPLUS ALL DAY HAPPY HOUR!!!
URL:https://littlevillagepub.com/event/sunday-trivia/2029-07-22/
LOCATION:Little Village Pub\, 2670 Co Rd E East\, White Bear Lake\, MN\, 55110\, United States
ATTACH;FMTTYPE=image/jpeg:https://littlevillagepub.com/wp-content/uploads/2025/07/Sunday-Funday_trivia.jpg
END:VEVENT
BEGIN:VEVENT
DTSTART;TZID=America/Chicago:20290723T183000
DTEND;TZID=America/Chicago:20290723T213000
DTSTAMP:20260421T000626
CREATED:20250908T191848Z
LAST-MODIFIED:20250908T192059Z
UID:10000218-1879525800-1879536600@littlevillagepub.com
SUMMARY:COACH PURSE BINGO
DESCRIPTION:Win that purse you’ve always wanted\, every Monday except the 3rd Monday of each month!\nStarts at 6:30pm.\nHosted by: Merrick Inc Charitable Gambling
URL:https://littlevillagepub.com/event/coach-purse-bingo-2/2029-07-23/
LOCATION:Little Village Pub\, 2670 Co Rd E East\, White Bear Lake\, MN\, 55110\, United States
ATTACH;FMTTYPE=image/jpeg:https://littlevillagepub.com/wp-content/uploads/2025/07/Coach-Purse-Bingo_Monday_Xmas-crew.jpg
END:VEVENT
BEGIN:VEVENT
DTSTART;TZID=America/Chicago:20290724T170000
DTEND;TZID=America/Chicago:20290724T200000
DTSTAMP:20260421T000626
CREATED:20250715T150237Z
LAST-MODIFIED:20250716T184227Z
UID:10000477-1879606800-1879617600@littlevillagepub.com
SUMMARY:Kids Eat Free!!!
DESCRIPTION:KIDS EAT FREE!\n\n\n\n\nKids 12 and under eat free 5-8pm.\n\n\n\n\n1 free kids meal per 1 adult meal.
URL:https://littlevillagepub.com/event/kids-eat-free/2029-07-24/
LOCATION:Little Village Pub\, 2670 Co Rd E East\, White Bear Lake\, MN\, 55110\, United States
ATTACH;FMTTYPE=image/jpeg:https://littlevillagepub.com/wp-content/uploads/2025/07/kids-eat-free-5-26-25.jpg
END:VEVENT
BEGIN:VEVENT
DTSTART;TZID=America/Chicago:20290725T200000
DTEND;TZID=America/Chicago:20290725T235900
DTSTAMP:20260421T000626
CREATED:20250715T150507Z
LAST-MODIFIED:20250716T184124Z
UID:10000736-1879704000-1879718340@littlevillagepub.com
SUMMARY:Karaoke Night!
DESCRIPTION:KARAOKE NIGHT\n\n\n\n\nStarts at 8:00pm -12:00am every other Wed\nCome on in and sing Karaoke with Twilight Karaoke every other Wed night!
URL:https://littlevillagepub.com/event/karaoke-night/2029-07-25/
LOCATION:Little Village Pub\, 2670 Co Rd E East\, White Bear Lake\, MN\, 55110\, United States
ATTACH;FMTTYPE=image/png:https://littlevillagepub.com/wp-content/uploads/2025/07/Karaoke-Wednesdays-new-LVP.png
END:VEVENT
END:VCALENDAR