BEGIN:VCALENDAR
VERSION:2.0
PRODID:-//Little Village Pub - ECPv6.15.20//NONSGML v1.0//EN
CALSCALE:GREGORIAN
METHOD:PUBLISH
X-ORIGINAL-URL:https://littlevillagepub.com
X-WR-CALDESC:Events for Little Village Pub
REFRESH-INTERVAL;VALUE=DURATION:PT1H
X-Robots-Tag:noindex
X-PUBLISHED-TTL:PT1H
BEGIN:VTIMEZONE
TZID:America/Chicago
BEGIN:DAYLIGHT
TZOFFSETFROM:-0600
TZOFFSETTO:-0500
TZNAME:CDT
DTSTART:20270314T080000
END:DAYLIGHT
BEGIN:STANDARD
TZOFFSETFROM:-0500
TZOFFSETTO:-0600
TZNAME:CST
DTSTART:20271107T070000
END:STANDARD
BEGIN:DAYLIGHT
TZOFFSETFROM:-0600
TZOFFSETTO:-0500
TZNAME:CDT
DTSTART:20280312T080000
END:DAYLIGHT
BEGIN:STANDARD
TZOFFSETFROM:-0500
TZOFFSETTO:-0600
TZNAME:CST
DTSTART:20281105T070000
END:STANDARD
BEGIN:DAYLIGHT
TZOFFSETFROM:-0600
TZOFFSETTO:-0500
TZNAME:CDT
DTSTART:20290311T080000
END:DAYLIGHT
BEGIN:STANDARD
TZOFFSETFROM:-0500
TZOFFSETTO:-0600
TZNAME:CST
DTSTART:20291104T070000
END:STANDARD
END:VTIMEZONE
BEGIN:VEVENT
DTSTART;TZID=America/Chicago:20280521T180000
DTEND;TZID=America/Chicago:20280521T200000
DTSTAMP:20260424T092432
CREATED:20250715T152209Z
LAST-MODIFIED:20250716T184504Z
UID:10002239-1842544800-1842552000@littlevillagepub.com
SUMMARY:Sunday Trivia
DESCRIPTION:Trivia at 6:00pm\n\n\n\n\nWin prizes with our friends from Get A Clu Trivia!\nWin gift cards\, swag prizes\, trophies and more.\nPLUS ALL DAY HAPPY HOUR!!!
URL:https://littlevillagepub.com/event/sunday-trivia/2028-05-21/
LOCATION:Little Village Pub\, 2670 Co Rd E East\, White Bear Lake\, MN\, 55110\, United States
ATTACH;FMTTYPE=image/jpeg:https://littlevillagepub.com/wp-content/uploads/2025/07/Sunday-Funday_trivia.jpg
END:VEVENT
BEGIN:VEVENT
DTSTART;TZID=America/Chicago:20280522T183000
DTEND;TZID=America/Chicago:20280522T213000
DTSTAMP:20260424T092432
CREATED:20250908T191848Z
LAST-MODIFIED:20250908T192059Z
UID:10000157-1842633000-1842643800@littlevillagepub.com
SUMMARY:COACH PURSE BINGO
DESCRIPTION:Win that purse you’ve always wanted\, every Monday except the 3rd Monday of each month!\nStarts at 6:30pm.\nHosted by: Merrick Inc Charitable Gambling
URL:https://littlevillagepub.com/event/coach-purse-bingo-2/2028-05-22/
LOCATION:Little Village Pub\, 2670 Co Rd E East\, White Bear Lake\, MN\, 55110\, United States
ATTACH;FMTTYPE=image/jpeg:https://littlevillagepub.com/wp-content/uploads/2025/07/Coach-Purse-Bingo_Monday_Xmas-crew.jpg
END:VEVENT
BEGIN:VEVENT
DTSTART;TZID=America/Chicago:20280523T170000
DTEND;TZID=America/Chicago:20280523T200000
DTSTAMP:20260424T092432
CREATED:20250715T150237Z
LAST-MODIFIED:20250716T184227Z
UID:10000416-1842714000-1842724800@littlevillagepub.com
SUMMARY:Kids Eat Free!!!
DESCRIPTION:KIDS EAT FREE!\n\n\n\n\nKids 12 and under eat free 5-8pm.\n\n\n\n\n1 free kids meal per 1 adult meal.
URL:https://littlevillagepub.com/event/kids-eat-free/2028-05-23/
LOCATION:Little Village Pub\, 2670 Co Rd E East\, White Bear Lake\, MN\, 55110\, United States
ATTACH;FMTTYPE=image/jpeg:https://littlevillagepub.com/wp-content/uploads/2025/07/kids-eat-free-5-26-25.jpg
END:VEVENT
BEGIN:VEVENT
DTSTART;TZID=America/Chicago:20280524T200000
DTEND;TZID=America/Chicago:20280524T235900
DTSTAMP:20260424T092432
CREATED:20250715T150507Z
LAST-MODIFIED:20250716T184124Z
UID:10000675-1842811200-1842825540@littlevillagepub.com
SUMMARY:Karaoke Night!
DESCRIPTION:KARAOKE NIGHT\n\n\n\n\nStarts at 8:00pm -12:00am every other Wed\nCome on in and sing Karaoke with Twilight Karaoke every other Wed night!
URL:https://littlevillagepub.com/event/karaoke-night/2028-05-24/
LOCATION:Little Village Pub\, 2670 Co Rd E East\, White Bear Lake\, MN\, 55110\, United States
ATTACH;FMTTYPE=image/png:https://littlevillagepub.com/wp-content/uploads/2025/07/Karaoke-Wednesdays-new-LVP.png
END:VEVENT
BEGIN:VEVENT
DTSTART;TZID=America/Chicago:20280526T173000
DTEND;TZID=America/Chicago:20280526T193000
DTSTAMP:20260424T092432
CREATED:20250715T151133Z
LAST-MODIFIED:20250717T180918Z
UID:10002500-1842975000-1842982200@littlevillagepub.com
SUMMARY:Meat Raffle
DESCRIPTION:Starts at 5:30pm\n\n\n\n\nWin some meats from Borchert Meat Market!
URL:https://littlevillagepub.com/event/meat-raffle/2028-05-26/
LOCATION:Little Village Pub\, 2670 Co Rd E East\, White Bear Lake\, MN\, 55110\, United States
ATTACH;FMTTYPE=image/jpeg:https://littlevillagepub.com/wp-content/uploads/2025/07/Meat-raffle-meat-dress.jpg
END:VEVENT
BEGIN:VEVENT
DTSTART;TZID=America/Chicago:20280527T090000
DTEND;TZID=America/Chicago:20280527T230000
DTSTAMP:20260424T092432
CREATED:20250715T151441Z
LAST-MODIFIED:20250716T184141Z
UID:10001191-1843030800-1843081200@littlevillagepub.com
SUMMARY:Saturday Breakfast Bingo
DESCRIPTION:Breakfast 8am | Bingo 9am.\n$1000 Coverall\, gift cards and more! Hosted by: Merrick Charitable Gambling 
URL:https://littlevillagepub.com/event/saturday-breakfast-bingo/2028-05-27/
LOCATION:Little Village Pub\, 2670 Co Rd E East\, White Bear Lake\, MN\, 55110\, United States
ATTACH;FMTTYPE=image/png:https://littlevillagepub.com/wp-content/uploads/2025/07/Saturday-Bingo-LVP.png
END:VEVENT
BEGIN:VEVENT
DTSTART;TZID=America/Chicago:20280527T210000
DTEND;TZID=America/Chicago:20280528T010000
DTSTAMP:20260424T092432
CREATED:20250715T151929Z
LAST-MODIFIED:20250716T184011Z
UID:10001449-1843074000-1843088400@littlevillagepub.com
SUMMARY:Saturday Night Karaoke
DESCRIPTION:Starts at 9:00pm -1:00am\n\n\n\n\nCome on in and sing Karaoke with Ick every Saturday night!
URL:https://littlevillagepub.com/event/saturday-night-karaoke/2028-05-27/
LOCATION:Little Village Pub\, 2670 Co Rd E East\, White Bear Lake\, MN\, 55110\, United States
ATTACH;FMTTYPE=image/jpeg:https://littlevillagepub.com/wp-content/uploads/2025/07/Karaoke_cable-guy.jpg
END:VEVENT
BEGIN:VEVENT
DTSTART;TZID=America/Chicago:20280528T090000
DTEND;TZID=America/Chicago:20280528T110000
DTSTAMP:20260424T092432
CREATED:20250908T191738Z
LAST-MODIFIED:20250908T191738Z
UID:10001707-1843117200-1843124400@littlevillagepub.com
SUMMARY:Sunday Breakfast Bingo
DESCRIPTION:Breakfast Bingo! 9am.\n$1000 Coverall\, gift cards and more! Hosted by: Merrick Charitable Gambling 
URL:https://littlevillagepub.com/event/sunday-breakfast-bingo-2/2028-05-28/
LOCATION:Little Village Pub\, 2670 Co Rd E East\, White Bear Lake\, MN\, 55110\, United States
ATTACH;FMTTYPE=image/png:https://littlevillagepub.com/wp-content/uploads/2025/03/Sunday-Bingo-LVP.png
END:VEVENT
BEGIN:VEVENT
DTSTART;TZID=America/Chicago:20280528T180000
DTEND;TZID=America/Chicago:20280528T200000
DTSTAMP:20260424T092432
CREATED:20250715T152209Z
LAST-MODIFIED:20250716T184504Z
UID:10002240-1843149600-1843156800@littlevillagepub.com
SUMMARY:Sunday Trivia
DESCRIPTION:Trivia at 6:00pm\n\n\n\n\nWin prizes with our friends from Get A Clu Trivia!\nWin gift cards\, swag prizes\, trophies and more.\nPLUS ALL DAY HAPPY HOUR!!!
URL:https://littlevillagepub.com/event/sunday-trivia/2028-05-28/
LOCATION:Little Village Pub\, 2670 Co Rd E East\, White Bear Lake\, MN\, 55110\, United States
ATTACH;FMTTYPE=image/jpeg:https://littlevillagepub.com/wp-content/uploads/2025/07/Sunday-Funday_trivia.jpg
END:VEVENT
BEGIN:VEVENT
DTSTART;TZID=America/Chicago:20280529T183000
DTEND;TZID=America/Chicago:20280529T213000
DTSTAMP:20260424T092432
CREATED:20250908T191848Z
LAST-MODIFIED:20250908T192059Z
UID:10000158-1843237800-1843248600@littlevillagepub.com
SUMMARY:COACH PURSE BINGO
DESCRIPTION:Win that purse you’ve always wanted\, every Monday except the 3rd Monday of each month!\nStarts at 6:30pm.\nHosted by: Merrick Inc Charitable Gambling
URL:https://littlevillagepub.com/event/coach-purse-bingo-2/2028-05-29/
LOCATION:Little Village Pub\, 2670 Co Rd E East\, White Bear Lake\, MN\, 55110\, United States
ATTACH;FMTTYPE=image/jpeg:https://littlevillagepub.com/wp-content/uploads/2025/07/Coach-Purse-Bingo_Monday_Xmas-crew.jpg
END:VEVENT
BEGIN:VEVENT
DTSTART;TZID=America/Chicago:20280530T170000
DTEND;TZID=America/Chicago:20280530T200000
DTSTAMP:20260424T092432
CREATED:20250715T150237Z
LAST-MODIFIED:20250716T184227Z
UID:10000417-1843318800-1843329600@littlevillagepub.com
SUMMARY:Kids Eat Free!!!
DESCRIPTION:KIDS EAT FREE!\n\n\n\n\nKids 12 and under eat free 5-8pm.\n\n\n\n\n1 free kids meal per 1 adult meal.
URL:https://littlevillagepub.com/event/kids-eat-free/2028-05-30/
LOCATION:Little Village Pub\, 2670 Co Rd E East\, White Bear Lake\, MN\, 55110\, United States
ATTACH;FMTTYPE=image/jpeg:https://littlevillagepub.com/wp-content/uploads/2025/07/kids-eat-free-5-26-25.jpg
END:VEVENT
BEGIN:VEVENT
DTSTART;TZID=America/Chicago:20280531T200000
DTEND;TZID=America/Chicago:20280531T235900
DTSTAMP:20260424T092432
CREATED:20250715T150507Z
LAST-MODIFIED:20250716T184124Z
UID:10000676-1843416000-1843430340@littlevillagepub.com
SUMMARY:Karaoke Night!
DESCRIPTION:KARAOKE NIGHT\n\n\n\n\nStarts at 8:00pm -12:00am every other Wed\nCome on in and sing Karaoke with Twilight Karaoke every other Wed night!
URL:https://littlevillagepub.com/event/karaoke-night/2028-05-31/
LOCATION:Little Village Pub\, 2670 Co Rd E East\, White Bear Lake\, MN\, 55110\, United States
ATTACH;FMTTYPE=image/png:https://littlevillagepub.com/wp-content/uploads/2025/07/Karaoke-Wednesdays-new-LVP.png
END:VEVENT
BEGIN:VEVENT
DTSTART;TZID=America/Chicago:20280602T173000
DTEND;TZID=America/Chicago:20280602T193000
DTSTAMP:20260424T092432
CREATED:20250715T151133Z
LAST-MODIFIED:20250717T180918Z
UID:10002501-1843579800-1843587000@littlevillagepub.com
SUMMARY:Meat Raffle
DESCRIPTION:Starts at 5:30pm\n\n\n\n\nWin some meats from Borchert Meat Market!
URL:https://littlevillagepub.com/event/meat-raffle/2028-06-02/
LOCATION:Little Village Pub\, 2670 Co Rd E East\, White Bear Lake\, MN\, 55110\, United States
ATTACH;FMTTYPE=image/jpeg:https://littlevillagepub.com/wp-content/uploads/2025/07/Meat-raffle-meat-dress.jpg
END:VEVENT
BEGIN:VEVENT
DTSTART;TZID=America/Chicago:20280603T090000
DTEND;TZID=America/Chicago:20280603T230000
DTSTAMP:20260424T092432
CREATED:20250715T151441Z
LAST-MODIFIED:20250716T184141Z
UID:10001192-1843635600-1843686000@littlevillagepub.com
SUMMARY:Saturday Breakfast Bingo
DESCRIPTION:Breakfast 8am | Bingo 9am.\n$1000 Coverall\, gift cards and more! Hosted by: Merrick Charitable Gambling 
URL:https://littlevillagepub.com/event/saturday-breakfast-bingo/2028-06-03/
LOCATION:Little Village Pub\, 2670 Co Rd E East\, White Bear Lake\, MN\, 55110\, United States
ATTACH;FMTTYPE=image/png:https://littlevillagepub.com/wp-content/uploads/2025/07/Saturday-Bingo-LVP.png
END:VEVENT
BEGIN:VEVENT
DTSTART;TZID=America/Chicago:20280603T210000
DTEND;TZID=America/Chicago:20280604T010000
DTSTAMP:20260424T092432
CREATED:20250715T151929Z
LAST-MODIFIED:20250716T184011Z
UID:10001450-1843678800-1843693200@littlevillagepub.com
SUMMARY:Saturday Night Karaoke
DESCRIPTION:Starts at 9:00pm -1:00am\n\n\n\n\nCome on in and sing Karaoke with Ick every Saturday night!
URL:https://littlevillagepub.com/event/saturday-night-karaoke/2028-06-03/
LOCATION:Little Village Pub\, 2670 Co Rd E East\, White Bear Lake\, MN\, 55110\, United States
ATTACH;FMTTYPE=image/jpeg:https://littlevillagepub.com/wp-content/uploads/2025/07/Karaoke_cable-guy.jpg
END:VEVENT
BEGIN:VEVENT
DTSTART;TZID=America/Chicago:20280604T090000
DTEND;TZID=America/Chicago:20280604T110000
DTSTAMP:20260424T092432
CREATED:20250908T191738Z
LAST-MODIFIED:20250908T191738Z
UID:10001708-1843722000-1843729200@littlevillagepub.com
SUMMARY:Sunday Breakfast Bingo
DESCRIPTION:Breakfast Bingo! 9am.\n$1000 Coverall\, gift cards and more! Hosted by: Merrick Charitable Gambling 
URL:https://littlevillagepub.com/event/sunday-breakfast-bingo-2/2028-06-04/
LOCATION:Little Village Pub\, 2670 Co Rd E East\, White Bear Lake\, MN\, 55110\, United States
ATTACH;FMTTYPE=image/png:https://littlevillagepub.com/wp-content/uploads/2025/03/Sunday-Bingo-LVP.png
END:VEVENT
BEGIN:VEVENT
DTSTART;TZID=America/Chicago:20280604T180000
DTEND;TZID=America/Chicago:20280604T200000
DTSTAMP:20260424T092432
CREATED:20250715T152209Z
LAST-MODIFIED:20250716T184504Z
UID:10002241-1843754400-1843761600@littlevillagepub.com
SUMMARY:Sunday Trivia
DESCRIPTION:Trivia at 6:00pm\n\n\n\n\nWin prizes with our friends from Get A Clu Trivia!\nWin gift cards\, swag prizes\, trophies and more.\nPLUS ALL DAY HAPPY HOUR!!!
URL:https://littlevillagepub.com/event/sunday-trivia/2028-06-04/
LOCATION:Little Village Pub\, 2670 Co Rd E East\, White Bear Lake\, MN\, 55110\, United States
ATTACH;FMTTYPE=image/jpeg:https://littlevillagepub.com/wp-content/uploads/2025/07/Sunday-Funday_trivia.jpg
END:VEVENT
BEGIN:VEVENT
DTSTART;TZID=America/Chicago:20280605T183000
DTEND;TZID=America/Chicago:20280605T213000
DTSTAMP:20260424T092432
CREATED:20250908T191848Z
LAST-MODIFIED:20250908T192059Z
UID:10000159-1843842600-1843853400@littlevillagepub.com
SUMMARY:COACH PURSE BINGO
DESCRIPTION:Win that purse you’ve always wanted\, every Monday except the 3rd Monday of each month!\nStarts at 6:30pm.\nHosted by: Merrick Inc Charitable Gambling
URL:https://littlevillagepub.com/event/coach-purse-bingo-2/2028-06-05/
LOCATION:Little Village Pub\, 2670 Co Rd E East\, White Bear Lake\, MN\, 55110\, United States
ATTACH;FMTTYPE=image/jpeg:https://littlevillagepub.com/wp-content/uploads/2025/07/Coach-Purse-Bingo_Monday_Xmas-crew.jpg
END:VEVENT
BEGIN:VEVENT
DTSTART;TZID=America/Chicago:20280606T170000
DTEND;TZID=America/Chicago:20280606T200000
DTSTAMP:20260424T092432
CREATED:20250715T150237Z
LAST-MODIFIED:20250716T184227Z
UID:10000418-1843923600-1843934400@littlevillagepub.com
SUMMARY:Kids Eat Free!!!
DESCRIPTION:KIDS EAT FREE!\n\n\n\n\nKids 12 and under eat free 5-8pm.\n\n\n\n\n1 free kids meal per 1 adult meal.
URL:https://littlevillagepub.com/event/kids-eat-free/2028-06-06/
LOCATION:Little Village Pub\, 2670 Co Rd E East\, White Bear Lake\, MN\, 55110\, United States
ATTACH;FMTTYPE=image/jpeg:https://littlevillagepub.com/wp-content/uploads/2025/07/kids-eat-free-5-26-25.jpg
END:VEVENT
BEGIN:VEVENT
DTSTART;TZID=America/Chicago:20280607T200000
DTEND;TZID=America/Chicago:20280607T235900
DTSTAMP:20260424T092432
CREATED:20250715T150507Z
LAST-MODIFIED:20250716T184124Z
UID:10000677-1844020800-1844035140@littlevillagepub.com
SUMMARY:Karaoke Night!
DESCRIPTION:KARAOKE NIGHT\n\n\n\n\nStarts at 8:00pm -12:00am every other Wed\nCome on in and sing Karaoke with Twilight Karaoke every other Wed night!
URL:https://littlevillagepub.com/event/karaoke-night/2028-06-07/
LOCATION:Little Village Pub\, 2670 Co Rd E East\, White Bear Lake\, MN\, 55110\, United States
ATTACH;FMTTYPE=image/png:https://littlevillagepub.com/wp-content/uploads/2025/07/Karaoke-Wednesdays-new-LVP.png
END:VEVENT
BEGIN:VEVENT
DTSTART;TZID=America/Chicago:20280609T173000
DTEND;TZID=America/Chicago:20280609T193000
DTSTAMP:20260424T092432
CREATED:20250715T151133Z
LAST-MODIFIED:20250717T180918Z
UID:10002502-1844184600-1844191800@littlevillagepub.com
SUMMARY:Meat Raffle
DESCRIPTION:Starts at 5:30pm\n\n\n\n\nWin some meats from Borchert Meat Market!
URL:https://littlevillagepub.com/event/meat-raffle/2028-06-09/
LOCATION:Little Village Pub\, 2670 Co Rd E East\, White Bear Lake\, MN\, 55110\, United States
ATTACH;FMTTYPE=image/jpeg:https://littlevillagepub.com/wp-content/uploads/2025/07/Meat-raffle-meat-dress.jpg
END:VEVENT
BEGIN:VEVENT
DTSTART;TZID=America/Chicago:20280610T090000
DTEND;TZID=America/Chicago:20280610T230000
DTSTAMP:20260424T092432
CREATED:20250715T151441Z
LAST-MODIFIED:20250716T184141Z
UID:10001193-1844240400-1844290800@littlevillagepub.com
SUMMARY:Saturday Breakfast Bingo
DESCRIPTION:Breakfast 8am | Bingo 9am.\n$1000 Coverall\, gift cards and more! Hosted by: Merrick Charitable Gambling 
URL:https://littlevillagepub.com/event/saturday-breakfast-bingo/2028-06-10/
LOCATION:Little Village Pub\, 2670 Co Rd E East\, White Bear Lake\, MN\, 55110\, United States
ATTACH;FMTTYPE=image/png:https://littlevillagepub.com/wp-content/uploads/2025/07/Saturday-Bingo-LVP.png
END:VEVENT
BEGIN:VEVENT
DTSTART;TZID=America/Chicago:20280610T210000
DTEND;TZID=America/Chicago:20280611T010000
DTSTAMP:20260424T092432
CREATED:20250715T151929Z
LAST-MODIFIED:20250716T184011Z
UID:10001451-1844283600-1844298000@littlevillagepub.com
SUMMARY:Saturday Night Karaoke
DESCRIPTION:Starts at 9:00pm -1:00am\n\n\n\n\nCome on in and sing Karaoke with Ick every Saturday night!
URL:https://littlevillagepub.com/event/saturday-night-karaoke/2028-06-10/
LOCATION:Little Village Pub\, 2670 Co Rd E East\, White Bear Lake\, MN\, 55110\, United States
ATTACH;FMTTYPE=image/jpeg:https://littlevillagepub.com/wp-content/uploads/2025/07/Karaoke_cable-guy.jpg
END:VEVENT
BEGIN:VEVENT
DTSTART;TZID=America/Chicago:20280611T090000
DTEND;TZID=America/Chicago:20280611T110000
DTSTAMP:20260424T092432
CREATED:20250908T191738Z
LAST-MODIFIED:20250908T191738Z
UID:10001709-1844326800-1844334000@littlevillagepub.com
SUMMARY:Sunday Breakfast Bingo
DESCRIPTION:Breakfast Bingo! 9am.\n$1000 Coverall\, gift cards and more! Hosted by: Merrick Charitable Gambling 
URL:https://littlevillagepub.com/event/sunday-breakfast-bingo-2/2028-06-11/
LOCATION:Little Village Pub\, 2670 Co Rd E East\, White Bear Lake\, MN\, 55110\, United States
ATTACH;FMTTYPE=image/png:https://littlevillagepub.com/wp-content/uploads/2025/03/Sunday-Bingo-LVP.png
END:VEVENT
BEGIN:VEVENT
DTSTART;TZID=America/Chicago:20280611T180000
DTEND;TZID=America/Chicago:20280611T200000
DTSTAMP:20260424T092432
CREATED:20250715T152209Z
LAST-MODIFIED:20250716T184504Z
UID:10002242-1844359200-1844366400@littlevillagepub.com
SUMMARY:Sunday Trivia
DESCRIPTION:Trivia at 6:00pm\n\n\n\n\nWin prizes with our friends from Get A Clu Trivia!\nWin gift cards\, swag prizes\, trophies and more.\nPLUS ALL DAY HAPPY HOUR!!!
URL:https://littlevillagepub.com/event/sunday-trivia/2028-06-11/
LOCATION:Little Village Pub\, 2670 Co Rd E East\, White Bear Lake\, MN\, 55110\, United States
ATTACH;FMTTYPE=image/jpeg:https://littlevillagepub.com/wp-content/uploads/2025/07/Sunday-Funday_trivia.jpg
END:VEVENT
BEGIN:VEVENT
DTSTART;TZID=America/Chicago:20280612T183000
DTEND;TZID=America/Chicago:20280612T213000
DTSTAMP:20260424T092432
CREATED:20250908T191848Z
LAST-MODIFIED:20250908T192059Z
UID:10000160-1844447400-1844458200@littlevillagepub.com
SUMMARY:COACH PURSE BINGO
DESCRIPTION:Win that purse you’ve always wanted\, every Monday except the 3rd Monday of each month!\nStarts at 6:30pm.\nHosted by: Merrick Inc Charitable Gambling
URL:https://littlevillagepub.com/event/coach-purse-bingo-2/2028-06-12/
LOCATION:Little Village Pub\, 2670 Co Rd E East\, White Bear Lake\, MN\, 55110\, United States
ATTACH;FMTTYPE=image/jpeg:https://littlevillagepub.com/wp-content/uploads/2025/07/Coach-Purse-Bingo_Monday_Xmas-crew.jpg
END:VEVENT
BEGIN:VEVENT
DTSTART;TZID=America/Chicago:20280613T170000
DTEND;TZID=America/Chicago:20280613T200000
DTSTAMP:20260424T092432
CREATED:20250715T150237Z
LAST-MODIFIED:20250716T184227Z
UID:10000419-1844528400-1844539200@littlevillagepub.com
SUMMARY:Kids Eat Free!!!
DESCRIPTION:KIDS EAT FREE!\n\n\n\n\nKids 12 and under eat free 5-8pm.\n\n\n\n\n1 free kids meal per 1 adult meal.
URL:https://littlevillagepub.com/event/kids-eat-free/2028-06-13/
LOCATION:Little Village Pub\, 2670 Co Rd E East\, White Bear Lake\, MN\, 55110\, United States
ATTACH;FMTTYPE=image/jpeg:https://littlevillagepub.com/wp-content/uploads/2025/07/kids-eat-free-5-26-25.jpg
END:VEVENT
BEGIN:VEVENT
DTSTART;TZID=America/Chicago:20280614T200000
DTEND;TZID=America/Chicago:20280614T235900
DTSTAMP:20260424T092432
CREATED:20250715T150507Z
LAST-MODIFIED:20250716T184124Z
UID:10000678-1844625600-1844639940@littlevillagepub.com
SUMMARY:Karaoke Night!
DESCRIPTION:KARAOKE NIGHT\n\n\n\n\nStarts at 8:00pm -12:00am every other Wed\nCome on in and sing Karaoke with Twilight Karaoke every other Wed night!
URL:https://littlevillagepub.com/event/karaoke-night/2028-06-14/
LOCATION:Little Village Pub\, 2670 Co Rd E East\, White Bear Lake\, MN\, 55110\, United States
ATTACH;FMTTYPE=image/png:https://littlevillagepub.com/wp-content/uploads/2025/07/Karaoke-Wednesdays-new-LVP.png
END:VEVENT
BEGIN:VEVENT
DTSTART;TZID=America/Chicago:20280616T173000
DTEND;TZID=America/Chicago:20280616T193000
DTSTAMP:20260424T092432
CREATED:20250715T151133Z
LAST-MODIFIED:20250717T180918Z
UID:10002503-1844789400-1844796600@littlevillagepub.com
SUMMARY:Meat Raffle
DESCRIPTION:Starts at 5:30pm\n\n\n\n\nWin some meats from Borchert Meat Market!
URL:https://littlevillagepub.com/event/meat-raffle/2028-06-16/
LOCATION:Little Village Pub\, 2670 Co Rd E East\, White Bear Lake\, MN\, 55110\, United States
ATTACH;FMTTYPE=image/jpeg:https://littlevillagepub.com/wp-content/uploads/2025/07/Meat-raffle-meat-dress.jpg
END:VEVENT
BEGIN:VEVENT
DTSTART;TZID=America/Chicago:20280617T090000
DTEND;TZID=America/Chicago:20280617T230000
DTSTAMP:20260424T092432
CREATED:20250715T151441Z
LAST-MODIFIED:20250716T184141Z
UID:10001194-1844845200-1844895600@littlevillagepub.com
SUMMARY:Saturday Breakfast Bingo
DESCRIPTION:Breakfast 8am | Bingo 9am.\n$1000 Coverall\, gift cards and more! Hosted by: Merrick Charitable Gambling 
URL:https://littlevillagepub.com/event/saturday-breakfast-bingo/2028-06-17/
LOCATION:Little Village Pub\, 2670 Co Rd E East\, White Bear Lake\, MN\, 55110\, United States
ATTACH;FMTTYPE=image/png:https://littlevillagepub.com/wp-content/uploads/2025/07/Saturday-Bingo-LVP.png
END:VEVENT
END:VCALENDAR