BEGIN:VCALENDAR
VERSION:2.0
PRODID:-//Little Village Pub - ECPv6.15.20//NONSGML v1.0//EN
CALSCALE:GREGORIAN
METHOD:PUBLISH
X-ORIGINAL-URL:https://littlevillagepub.com
X-WR-CALDESC:Events for Little Village Pub
REFRESH-INTERVAL;VALUE=DURATION:PT1H
X-Robots-Tag:noindex
X-PUBLISHED-TTL:PT1H
BEGIN:VTIMEZONE
TZID:America/Chicago
BEGIN:DAYLIGHT
TZOFFSETFROM:-0600
TZOFFSETTO:-0500
TZNAME:CDT
DTSTART:20270314T080000
END:DAYLIGHT
BEGIN:STANDARD
TZOFFSETFROM:-0500
TZOFFSETTO:-0600
TZNAME:CST
DTSTART:20271107T070000
END:STANDARD
BEGIN:DAYLIGHT
TZOFFSETFROM:-0600
TZOFFSETTO:-0500
TZNAME:CDT
DTSTART:20280312T080000
END:DAYLIGHT
BEGIN:STANDARD
TZOFFSETFROM:-0500
TZOFFSETTO:-0600
TZNAME:CST
DTSTART:20281105T070000
END:STANDARD
BEGIN:DAYLIGHT
TZOFFSETFROM:-0600
TZOFFSETTO:-0500
TZNAME:CDT
DTSTART:20290311T080000
END:DAYLIGHT
BEGIN:STANDARD
TZOFFSETFROM:-0500
TZOFFSETTO:-0600
TZNAME:CST
DTSTART:20291104T070000
END:STANDARD
END:VTIMEZONE
BEGIN:VEVENT
DTSTART;TZID=America/Chicago:20280709T090000
DTEND;TZID=America/Chicago:20280709T110000
DTSTAMP:20260423T224540
CREATED:20250908T191738Z
LAST-MODIFIED:20250908T191738Z
UID:10001713-1846746000-1846753200@littlevillagepub.com
SUMMARY:Sunday Breakfast Bingo
DESCRIPTION:Breakfast Bingo! 9am.\n$1000 Coverall\, gift cards and more! Hosted by: Merrick Charitable Gambling 
URL:https://littlevillagepub.com/event/sunday-breakfast-bingo-2/2028-07-09/
LOCATION:Little Village Pub\, 2670 Co Rd E East\, White Bear Lake\, MN\, 55110\, United States
ATTACH;FMTTYPE=image/png:https://littlevillagepub.com/wp-content/uploads/2025/03/Sunday-Bingo-LVP.png
END:VEVENT
BEGIN:VEVENT
DTSTART;TZID=America/Chicago:20280709T180000
DTEND;TZID=America/Chicago:20280709T200000
DTSTAMP:20260423T224540
CREATED:20250715T152209Z
LAST-MODIFIED:20250716T184504Z
UID:10002246-1846778400-1846785600@littlevillagepub.com
SUMMARY:Sunday Trivia
DESCRIPTION:Trivia at 6:00pm\n\n\n\n\nWin prizes with our friends from Get A Clu Trivia!\nWin gift cards\, swag prizes\, trophies and more.\nPLUS ALL DAY HAPPY HOUR!!!
URL:https://littlevillagepub.com/event/sunday-trivia/2028-07-09/
LOCATION:Little Village Pub\, 2670 Co Rd E East\, White Bear Lake\, MN\, 55110\, United States
ATTACH;FMTTYPE=image/jpeg:https://littlevillagepub.com/wp-content/uploads/2025/07/Sunday-Funday_trivia.jpg
END:VEVENT
BEGIN:VEVENT
DTSTART;TZID=America/Chicago:20280710T183000
DTEND;TZID=America/Chicago:20280710T213000
DTSTAMP:20260423T224540
CREATED:20250908T191848Z
LAST-MODIFIED:20250908T192059Z
UID:10000164-1846866600-1846877400@littlevillagepub.com
SUMMARY:COACH PURSE BINGO
DESCRIPTION:Win that purse you’ve always wanted\, every Monday except the 3rd Monday of each month!\nStarts at 6:30pm.\nHosted by: Merrick Inc Charitable Gambling
URL:https://littlevillagepub.com/event/coach-purse-bingo-2/2028-07-10/
LOCATION:Little Village Pub\, 2670 Co Rd E East\, White Bear Lake\, MN\, 55110\, United States
ATTACH;FMTTYPE=image/jpeg:https://littlevillagepub.com/wp-content/uploads/2025/07/Coach-Purse-Bingo_Monday_Xmas-crew.jpg
END:VEVENT
BEGIN:VEVENT
DTSTART;TZID=America/Chicago:20280711T170000
DTEND;TZID=America/Chicago:20280711T200000
DTSTAMP:20260423T224540
CREATED:20250715T150237Z
LAST-MODIFIED:20250716T184227Z
UID:10000423-1846947600-1846958400@littlevillagepub.com
SUMMARY:Kids Eat Free!!!
DESCRIPTION:KIDS EAT FREE!\n\n\n\n\nKids 12 and under eat free 5-8pm.\n\n\n\n\n1 free kids meal per 1 adult meal.
URL:https://littlevillagepub.com/event/kids-eat-free/2028-07-11/
LOCATION:Little Village Pub\, 2670 Co Rd E East\, White Bear Lake\, MN\, 55110\, United States
ATTACH;FMTTYPE=image/jpeg:https://littlevillagepub.com/wp-content/uploads/2025/07/kids-eat-free-5-26-25.jpg
END:VEVENT
BEGIN:VEVENT
DTSTART;TZID=America/Chicago:20280712T200000
DTEND;TZID=America/Chicago:20280712T235900
DTSTAMP:20260423T224540
CREATED:20250715T150507Z
LAST-MODIFIED:20250716T184124Z
UID:10000682-1847044800-1847059140@littlevillagepub.com
SUMMARY:Karaoke Night!
DESCRIPTION:KARAOKE NIGHT\n\n\n\n\nStarts at 8:00pm -12:00am every other Wed\nCome on in and sing Karaoke with Twilight Karaoke every other Wed night!
URL:https://littlevillagepub.com/event/karaoke-night/2028-07-12/
LOCATION:Little Village Pub\, 2670 Co Rd E East\, White Bear Lake\, MN\, 55110\, United States
ATTACH;FMTTYPE=image/png:https://littlevillagepub.com/wp-content/uploads/2025/07/Karaoke-Wednesdays-new-LVP.png
END:VEVENT
BEGIN:VEVENT
DTSTART;TZID=America/Chicago:20280714T173000
DTEND;TZID=America/Chicago:20280714T193000
DTSTAMP:20260423T224540
CREATED:20250715T151133Z
LAST-MODIFIED:20250717T180918Z
UID:10002507-1847208600-1847215800@littlevillagepub.com
SUMMARY:Meat Raffle
DESCRIPTION:Starts at 5:30pm\n\n\n\n\nWin some meats from Borchert Meat Market!
URL:https://littlevillagepub.com/event/meat-raffle/2028-07-14/
LOCATION:Little Village Pub\, 2670 Co Rd E East\, White Bear Lake\, MN\, 55110\, United States
ATTACH;FMTTYPE=image/jpeg:https://littlevillagepub.com/wp-content/uploads/2025/07/Meat-raffle-meat-dress.jpg
END:VEVENT
BEGIN:VEVENT
DTSTART;TZID=America/Chicago:20280715T090000
DTEND;TZID=America/Chicago:20280715T230000
DTSTAMP:20260423T224540
CREATED:20250715T151441Z
LAST-MODIFIED:20250716T184141Z
UID:10001198-1847264400-1847314800@littlevillagepub.com
SUMMARY:Saturday Breakfast Bingo
DESCRIPTION:Breakfast 8am | Bingo 9am.\n$1000 Coverall\, gift cards and more! Hosted by: Merrick Charitable Gambling 
URL:https://littlevillagepub.com/event/saturday-breakfast-bingo/2028-07-15/
LOCATION:Little Village Pub\, 2670 Co Rd E East\, White Bear Lake\, MN\, 55110\, United States
ATTACH;FMTTYPE=image/png:https://littlevillagepub.com/wp-content/uploads/2025/07/Saturday-Bingo-LVP.png
END:VEVENT
BEGIN:VEVENT
DTSTART;TZID=America/Chicago:20280715T210000
DTEND;TZID=America/Chicago:20280716T010000
DTSTAMP:20260423T224540
CREATED:20250715T151929Z
LAST-MODIFIED:20250716T184011Z
UID:10001456-1847307600-1847322000@littlevillagepub.com
SUMMARY:Saturday Night Karaoke
DESCRIPTION:Starts at 9:00pm -1:00am\n\n\n\n\nCome on in and sing Karaoke with Ick every Saturday night!
URL:https://littlevillagepub.com/event/saturday-night-karaoke/2028-07-15/
LOCATION:Little Village Pub\, 2670 Co Rd E East\, White Bear Lake\, MN\, 55110\, United States
ATTACH;FMTTYPE=image/jpeg:https://littlevillagepub.com/wp-content/uploads/2025/07/Karaoke_cable-guy.jpg
END:VEVENT
BEGIN:VEVENT
DTSTART;TZID=America/Chicago:20280716T090000
DTEND;TZID=America/Chicago:20280716T110000
DTSTAMP:20260423T224540
CREATED:20250908T191738Z
LAST-MODIFIED:20250908T191738Z
UID:10001714-1847350800-1847358000@littlevillagepub.com
SUMMARY:Sunday Breakfast Bingo
DESCRIPTION:Breakfast Bingo! 9am.\n$1000 Coverall\, gift cards and more! Hosted by: Merrick Charitable Gambling 
URL:https://littlevillagepub.com/event/sunday-breakfast-bingo-2/2028-07-16/
LOCATION:Little Village Pub\, 2670 Co Rd E East\, White Bear Lake\, MN\, 55110\, United States
ATTACH;FMTTYPE=image/png:https://littlevillagepub.com/wp-content/uploads/2025/03/Sunday-Bingo-LVP.png
END:VEVENT
BEGIN:VEVENT
DTSTART;TZID=America/Chicago:20280716T180000
DTEND;TZID=America/Chicago:20280716T200000
DTSTAMP:20260423T224540
CREATED:20250715T152209Z
LAST-MODIFIED:20250716T184504Z
UID:10002247-1847383200-1847390400@littlevillagepub.com
SUMMARY:Sunday Trivia
DESCRIPTION:Trivia at 6:00pm\n\n\n\n\nWin prizes with our friends from Get A Clu Trivia!\nWin gift cards\, swag prizes\, trophies and more.\nPLUS ALL DAY HAPPY HOUR!!!
URL:https://littlevillagepub.com/event/sunday-trivia/2028-07-16/
LOCATION:Little Village Pub\, 2670 Co Rd E East\, White Bear Lake\, MN\, 55110\, United States
ATTACH;FMTTYPE=image/jpeg:https://littlevillagepub.com/wp-content/uploads/2025/07/Sunday-Funday_trivia.jpg
END:VEVENT
BEGIN:VEVENT
DTSTART;TZID=America/Chicago:20280717T183000
DTEND;TZID=America/Chicago:20280717T213000
DTSTAMP:20260423T224540
CREATED:20250818T181937Z
LAST-MODIFIED:20250818T182126Z
UID:10002856-1847471400-1847482200@littlevillagepub.com
SUMMARY:MANCAVE BINGO
DESCRIPTION:Win Manly prizes\, every 3rd Monday of each month!\nWin tools\, sports tickets\, coolers\, gift cards TVs and more!\nStarts at 6:30pm.\nHosted by: Merrick Inc Charitable Gambling
URL:https://littlevillagepub.com/event/mancave-bingo/2028-07-17/
LOCATION:Little Village Pub\, 2670 Co Rd E East\, White Bear Lake\, MN\, 55110\, United States
ATTACH;FMTTYPE=image/png:https://littlevillagepub.com/wp-content/uploads/2025/08/Man-Cave-Bingo-LVP-v2.png
END:VEVENT
BEGIN:VEVENT
DTSTART;TZID=America/Chicago:20280718T170000
DTEND;TZID=America/Chicago:20280718T200000
DTSTAMP:20260423T224540
CREATED:20250715T150237Z
LAST-MODIFIED:20250716T184227Z
UID:10000424-1847552400-1847563200@littlevillagepub.com
SUMMARY:Kids Eat Free!!!
DESCRIPTION:KIDS EAT FREE!\n\n\n\n\nKids 12 and under eat free 5-8pm.\n\n\n\n\n1 free kids meal per 1 adult meal.
URL:https://littlevillagepub.com/event/kids-eat-free/2028-07-18/
LOCATION:Little Village Pub\, 2670 Co Rd E East\, White Bear Lake\, MN\, 55110\, United States
ATTACH;FMTTYPE=image/jpeg:https://littlevillagepub.com/wp-content/uploads/2025/07/kids-eat-free-5-26-25.jpg
END:VEVENT
BEGIN:VEVENT
DTSTART;TZID=America/Chicago:20280719T200000
DTEND;TZID=America/Chicago:20280719T235900
DTSTAMP:20260423T224540
CREATED:20250715T150507Z
LAST-MODIFIED:20250716T184124Z
UID:10000683-1847649600-1847663940@littlevillagepub.com
SUMMARY:Karaoke Night!
DESCRIPTION:KARAOKE NIGHT\n\n\n\n\nStarts at 8:00pm -12:00am every other Wed\nCome on in and sing Karaoke with Twilight Karaoke every other Wed night!
URL:https://littlevillagepub.com/event/karaoke-night/2028-07-19/
LOCATION:Little Village Pub\, 2670 Co Rd E East\, White Bear Lake\, MN\, 55110\, United States
ATTACH;FMTTYPE=image/png:https://littlevillagepub.com/wp-content/uploads/2025/07/Karaoke-Wednesdays-new-LVP.png
END:VEVENT
BEGIN:VEVENT
DTSTART;TZID=America/Chicago:20280721T173000
DTEND;TZID=America/Chicago:20280721T193000
DTSTAMP:20260423T224540
CREATED:20250715T151133Z
LAST-MODIFIED:20250717T180918Z
UID:10002508-1847813400-1847820600@littlevillagepub.com
SUMMARY:Meat Raffle
DESCRIPTION:Starts at 5:30pm\n\n\n\n\nWin some meats from Borchert Meat Market!
URL:https://littlevillagepub.com/event/meat-raffle/2028-07-21/
LOCATION:Little Village Pub\, 2670 Co Rd E East\, White Bear Lake\, MN\, 55110\, United States
ATTACH;FMTTYPE=image/jpeg:https://littlevillagepub.com/wp-content/uploads/2025/07/Meat-raffle-meat-dress.jpg
END:VEVENT
BEGIN:VEVENT
DTSTART;TZID=America/Chicago:20280722T090000
DTEND;TZID=America/Chicago:20280722T230000
DTSTAMP:20260423T224540
CREATED:20250715T151441Z
LAST-MODIFIED:20250716T184141Z
UID:10001199-1847869200-1847919600@littlevillagepub.com
SUMMARY:Saturday Breakfast Bingo
DESCRIPTION:Breakfast 8am | Bingo 9am.\n$1000 Coverall\, gift cards and more! Hosted by: Merrick Charitable Gambling 
URL:https://littlevillagepub.com/event/saturday-breakfast-bingo/2028-07-22/
LOCATION:Little Village Pub\, 2670 Co Rd E East\, White Bear Lake\, MN\, 55110\, United States
ATTACH;FMTTYPE=image/png:https://littlevillagepub.com/wp-content/uploads/2025/07/Saturday-Bingo-LVP.png
END:VEVENT
BEGIN:VEVENT
DTSTART;TZID=America/Chicago:20280722T210000
DTEND;TZID=America/Chicago:20280723T010000
DTSTAMP:20260423T224540
CREATED:20250715T151929Z
LAST-MODIFIED:20250716T184011Z
UID:10001457-1847912400-1847926800@littlevillagepub.com
SUMMARY:Saturday Night Karaoke
DESCRIPTION:Starts at 9:00pm -1:00am\n\n\n\n\nCome on in and sing Karaoke with Ick every Saturday night!
URL:https://littlevillagepub.com/event/saturday-night-karaoke/2028-07-22/
LOCATION:Little Village Pub\, 2670 Co Rd E East\, White Bear Lake\, MN\, 55110\, United States
ATTACH;FMTTYPE=image/jpeg:https://littlevillagepub.com/wp-content/uploads/2025/07/Karaoke_cable-guy.jpg
END:VEVENT
BEGIN:VEVENT
DTSTART;TZID=America/Chicago:20280723T090000
DTEND;TZID=America/Chicago:20280723T110000
DTSTAMP:20260423T224540
CREATED:20250908T191738Z
LAST-MODIFIED:20250908T191738Z
UID:10001715-1847955600-1847962800@littlevillagepub.com
SUMMARY:Sunday Breakfast Bingo
DESCRIPTION:Breakfast Bingo! 9am.\n$1000 Coverall\, gift cards and more! Hosted by: Merrick Charitable Gambling 
URL:https://littlevillagepub.com/event/sunday-breakfast-bingo-2/2028-07-23/
LOCATION:Little Village Pub\, 2670 Co Rd E East\, White Bear Lake\, MN\, 55110\, United States
ATTACH;FMTTYPE=image/png:https://littlevillagepub.com/wp-content/uploads/2025/03/Sunday-Bingo-LVP.png
END:VEVENT
BEGIN:VEVENT
DTSTART;TZID=America/Chicago:20280723T180000
DTEND;TZID=America/Chicago:20280723T200000
DTSTAMP:20260423T224540
CREATED:20250715T152209Z
LAST-MODIFIED:20250716T184504Z
UID:10002248-1847988000-1847995200@littlevillagepub.com
SUMMARY:Sunday Trivia
DESCRIPTION:Trivia at 6:00pm\n\n\n\n\nWin prizes with our friends from Get A Clu Trivia!\nWin gift cards\, swag prizes\, trophies and more.\nPLUS ALL DAY HAPPY HOUR!!!
URL:https://littlevillagepub.com/event/sunday-trivia/2028-07-23/
LOCATION:Little Village Pub\, 2670 Co Rd E East\, White Bear Lake\, MN\, 55110\, United States
ATTACH;FMTTYPE=image/jpeg:https://littlevillagepub.com/wp-content/uploads/2025/07/Sunday-Funday_trivia.jpg
END:VEVENT
BEGIN:VEVENT
DTSTART;TZID=America/Chicago:20280724T183000
DTEND;TZID=America/Chicago:20280724T213000
DTSTAMP:20260423T224540
CREATED:20250908T191848Z
LAST-MODIFIED:20250908T192059Z
UID:10000166-1848076200-1848087000@littlevillagepub.com
SUMMARY:COACH PURSE BINGO
DESCRIPTION:Win that purse you’ve always wanted\, every Monday except the 3rd Monday of each month!\nStarts at 6:30pm.\nHosted by: Merrick Inc Charitable Gambling
URL:https://littlevillagepub.com/event/coach-purse-bingo-2/2028-07-24/
LOCATION:Little Village Pub\, 2670 Co Rd E East\, White Bear Lake\, MN\, 55110\, United States
ATTACH;FMTTYPE=image/jpeg:https://littlevillagepub.com/wp-content/uploads/2025/07/Coach-Purse-Bingo_Monday_Xmas-crew.jpg
END:VEVENT
BEGIN:VEVENT
DTSTART;TZID=America/Chicago:20280725T170000
DTEND;TZID=America/Chicago:20280725T200000
DTSTAMP:20260423T224540
CREATED:20250715T150237Z
LAST-MODIFIED:20250716T184227Z
UID:10000425-1848157200-1848168000@littlevillagepub.com
SUMMARY:Kids Eat Free!!!
DESCRIPTION:KIDS EAT FREE!\n\n\n\n\nKids 12 and under eat free 5-8pm.\n\n\n\n\n1 free kids meal per 1 adult meal.
URL:https://littlevillagepub.com/event/kids-eat-free/2028-07-25/
LOCATION:Little Village Pub\, 2670 Co Rd E East\, White Bear Lake\, MN\, 55110\, United States
ATTACH;FMTTYPE=image/jpeg:https://littlevillagepub.com/wp-content/uploads/2025/07/kids-eat-free-5-26-25.jpg
END:VEVENT
BEGIN:VEVENT
DTSTART;TZID=America/Chicago:20280726T200000
DTEND;TZID=America/Chicago:20280726T235900
DTSTAMP:20260423T224540
CREATED:20250715T150507Z
LAST-MODIFIED:20250716T184124Z
UID:10000684-1848254400-1848268740@littlevillagepub.com
SUMMARY:Karaoke Night!
DESCRIPTION:KARAOKE NIGHT\n\n\n\n\nStarts at 8:00pm -12:00am every other Wed\nCome on in and sing Karaoke with Twilight Karaoke every other Wed night!
URL:https://littlevillagepub.com/event/karaoke-night/2028-07-26/
LOCATION:Little Village Pub\, 2670 Co Rd E East\, White Bear Lake\, MN\, 55110\, United States
ATTACH;FMTTYPE=image/png:https://littlevillagepub.com/wp-content/uploads/2025/07/Karaoke-Wednesdays-new-LVP.png
END:VEVENT
BEGIN:VEVENT
DTSTART;TZID=America/Chicago:20280728T173000
DTEND;TZID=America/Chicago:20280728T193000
DTSTAMP:20260423T224540
CREATED:20250715T151133Z
LAST-MODIFIED:20250717T180918Z
UID:10002509-1848418200-1848425400@littlevillagepub.com
SUMMARY:Meat Raffle
DESCRIPTION:Starts at 5:30pm\n\n\n\n\nWin some meats from Borchert Meat Market!
URL:https://littlevillagepub.com/event/meat-raffle/2028-07-28/
LOCATION:Little Village Pub\, 2670 Co Rd E East\, White Bear Lake\, MN\, 55110\, United States
ATTACH;FMTTYPE=image/jpeg:https://littlevillagepub.com/wp-content/uploads/2025/07/Meat-raffle-meat-dress.jpg
END:VEVENT
BEGIN:VEVENT
DTSTART;TZID=America/Chicago:20280729T090000
DTEND;TZID=America/Chicago:20280729T230000
DTSTAMP:20260423T224540
CREATED:20250715T151441Z
LAST-MODIFIED:20250716T184141Z
UID:10001200-1848474000-1848524400@littlevillagepub.com
SUMMARY:Saturday Breakfast Bingo
DESCRIPTION:Breakfast 8am | Bingo 9am.\n$1000 Coverall\, gift cards and more! Hosted by: Merrick Charitable Gambling 
URL:https://littlevillagepub.com/event/saturday-breakfast-bingo/2028-07-29/
LOCATION:Little Village Pub\, 2670 Co Rd E East\, White Bear Lake\, MN\, 55110\, United States
ATTACH;FMTTYPE=image/png:https://littlevillagepub.com/wp-content/uploads/2025/07/Saturday-Bingo-LVP.png
END:VEVENT
BEGIN:VEVENT
DTSTART;TZID=America/Chicago:20280729T210000
DTEND;TZID=America/Chicago:20280730T010000
DTSTAMP:20260423T224540
CREATED:20250715T151929Z
LAST-MODIFIED:20250716T184011Z
UID:10001458-1848517200-1848531600@littlevillagepub.com
SUMMARY:Saturday Night Karaoke
DESCRIPTION:Starts at 9:00pm -1:00am\n\n\n\n\nCome on in and sing Karaoke with Ick every Saturday night!
URL:https://littlevillagepub.com/event/saturday-night-karaoke/2028-07-29/
LOCATION:Little Village Pub\, 2670 Co Rd E East\, White Bear Lake\, MN\, 55110\, United States
ATTACH;FMTTYPE=image/jpeg:https://littlevillagepub.com/wp-content/uploads/2025/07/Karaoke_cable-guy.jpg
END:VEVENT
BEGIN:VEVENT
DTSTART;TZID=America/Chicago:20280730T090000
DTEND;TZID=America/Chicago:20280730T110000
DTSTAMP:20260423T224540
CREATED:20250908T191738Z
LAST-MODIFIED:20250908T191738Z
UID:10001716-1848560400-1848567600@littlevillagepub.com
SUMMARY:Sunday Breakfast Bingo
DESCRIPTION:Breakfast Bingo! 9am.\n$1000 Coverall\, gift cards and more! Hosted by: Merrick Charitable Gambling 
URL:https://littlevillagepub.com/event/sunday-breakfast-bingo-2/2028-07-30/
LOCATION:Little Village Pub\, 2670 Co Rd E East\, White Bear Lake\, MN\, 55110\, United States
ATTACH;FMTTYPE=image/png:https://littlevillagepub.com/wp-content/uploads/2025/03/Sunday-Bingo-LVP.png
END:VEVENT
BEGIN:VEVENT
DTSTART;TZID=America/Chicago:20280730T180000
DTEND;TZID=America/Chicago:20280730T200000
DTSTAMP:20260423T224540
CREATED:20250715T152209Z
LAST-MODIFIED:20250716T184504Z
UID:10002249-1848592800-1848600000@littlevillagepub.com
SUMMARY:Sunday Trivia
DESCRIPTION:Trivia at 6:00pm\n\n\n\n\nWin prizes with our friends from Get A Clu Trivia!\nWin gift cards\, swag prizes\, trophies and more.\nPLUS ALL DAY HAPPY HOUR!!!
URL:https://littlevillagepub.com/event/sunday-trivia/2028-07-30/
LOCATION:Little Village Pub\, 2670 Co Rd E East\, White Bear Lake\, MN\, 55110\, United States
ATTACH;FMTTYPE=image/jpeg:https://littlevillagepub.com/wp-content/uploads/2025/07/Sunday-Funday_trivia.jpg
END:VEVENT
BEGIN:VEVENT
DTSTART;TZID=America/Chicago:20280731T183000
DTEND;TZID=America/Chicago:20280731T213000
DTSTAMP:20260423T224540
CREATED:20250908T191848Z
LAST-MODIFIED:20250908T192059Z
UID:10000167-1848681000-1848691800@littlevillagepub.com
SUMMARY:COACH PURSE BINGO
DESCRIPTION:Win that purse you’ve always wanted\, every Monday except the 3rd Monday of each month!\nStarts at 6:30pm.\nHosted by: Merrick Inc Charitable Gambling
URL:https://littlevillagepub.com/event/coach-purse-bingo-2/2028-07-31/
LOCATION:Little Village Pub\, 2670 Co Rd E East\, White Bear Lake\, MN\, 55110\, United States
ATTACH;FMTTYPE=image/jpeg:https://littlevillagepub.com/wp-content/uploads/2025/07/Coach-Purse-Bingo_Monday_Xmas-crew.jpg
END:VEVENT
BEGIN:VEVENT
DTSTART;TZID=America/Chicago:20280801T170000
DTEND;TZID=America/Chicago:20280801T200000
DTSTAMP:20260423T224540
CREATED:20250715T150237Z
LAST-MODIFIED:20250716T184227Z
UID:10000426-1848762000-1848772800@littlevillagepub.com
SUMMARY:Kids Eat Free!!!
DESCRIPTION:KIDS EAT FREE!\n\n\n\n\nKids 12 and under eat free 5-8pm.\n\n\n\n\n1 free kids meal per 1 adult meal.
URL:https://littlevillagepub.com/event/kids-eat-free/2028-08-01/
LOCATION:Little Village Pub\, 2670 Co Rd E East\, White Bear Lake\, MN\, 55110\, United States
ATTACH;FMTTYPE=image/jpeg:https://littlevillagepub.com/wp-content/uploads/2025/07/kids-eat-free-5-26-25.jpg
END:VEVENT
BEGIN:VEVENT
DTSTART;TZID=America/Chicago:20280802T200000
DTEND;TZID=America/Chicago:20280802T235900
DTSTAMP:20260423T224540
CREATED:20250715T150507Z
LAST-MODIFIED:20250716T184124Z
UID:10000685-1848859200-1848873540@littlevillagepub.com
SUMMARY:Karaoke Night!
DESCRIPTION:KARAOKE NIGHT\n\n\n\n\nStarts at 8:00pm -12:00am every other Wed\nCome on in and sing Karaoke with Twilight Karaoke every other Wed night!
URL:https://littlevillagepub.com/event/karaoke-night/2028-08-02/
LOCATION:Little Village Pub\, 2670 Co Rd E East\, White Bear Lake\, MN\, 55110\, United States
ATTACH;FMTTYPE=image/png:https://littlevillagepub.com/wp-content/uploads/2025/07/Karaoke-Wednesdays-new-LVP.png
END:VEVENT
BEGIN:VEVENT
DTSTART;TZID=America/Chicago:20280804T173000
DTEND;TZID=America/Chicago:20280804T193000
DTSTAMP:20260423T224540
CREATED:20250715T151133Z
LAST-MODIFIED:20250717T180918Z
UID:10002510-1849023000-1849030200@littlevillagepub.com
SUMMARY:Meat Raffle
DESCRIPTION:Starts at 5:30pm\n\n\n\n\nWin some meats from Borchert Meat Market!
URL:https://littlevillagepub.com/event/meat-raffle/2028-08-04/
LOCATION:Little Village Pub\, 2670 Co Rd E East\, White Bear Lake\, MN\, 55110\, United States
ATTACH;FMTTYPE=image/jpeg:https://littlevillagepub.com/wp-content/uploads/2025/07/Meat-raffle-meat-dress.jpg
END:VEVENT
END:VCALENDAR