BEGIN:VCALENDAR
VERSION:2.0
PRODID:-//Little Village Pub - ECPv6.15.20//NONSGML v1.0//EN
CALSCALE:GREGORIAN
METHOD:PUBLISH
X-WR-CALNAME:Little Village Pub
X-ORIGINAL-URL:https://littlevillagepub.com
X-WR-CALDESC:Events for Little Village Pub
REFRESH-INTERVAL;VALUE=DURATION:PT1H
X-Robots-Tag:noindex
X-PUBLISHED-TTL:PT1H
BEGIN:VTIMEZONE
TZID:America/Chicago
BEGIN:DAYLIGHT
TZOFFSETFROM:-0600
TZOFFSETTO:-0500
TZNAME:CDT
DTSTART:20270314T080000
END:DAYLIGHT
BEGIN:STANDARD
TZOFFSETFROM:-0500
TZOFFSETTO:-0600
TZNAME:CST
DTSTART:20271107T070000
END:STANDARD
BEGIN:DAYLIGHT
TZOFFSETFROM:-0600
TZOFFSETTO:-0500
TZNAME:CDT
DTSTART:20280312T080000
END:DAYLIGHT
BEGIN:STANDARD
TZOFFSETFROM:-0500
TZOFFSETTO:-0600
TZNAME:CST
DTSTART:20281105T070000
END:STANDARD
BEGIN:DAYLIGHT
TZOFFSETFROM:-0600
TZOFFSETTO:-0500
TZNAME:CDT
DTSTART:20290311T080000
END:DAYLIGHT
BEGIN:STANDARD
TZOFFSETFROM:-0500
TZOFFSETTO:-0600
TZNAME:CST
DTSTART:20291104T070000
END:STANDARD
END:VTIMEZONE
BEGIN:VEVENT
DTSTART;TZID=America/Chicago:20281112T090000
DTEND;TZID=America/Chicago:20281112T110000
DTSTAMP:20260422T221502
CREATED:20250908T191738Z
LAST-MODIFIED:20250908T191738Z
UID:10001731-1857632400-1857639600@littlevillagepub.com
SUMMARY:Sunday Breakfast Bingo
DESCRIPTION:Breakfast Bingo! 9am.\n$1000 Coverall\, gift cards and more! Hosted by: Merrick Charitable Gambling 
URL:https://littlevillagepub.com/event/sunday-breakfast-bingo-2/2028-11-12/
LOCATION:Little Village Pub\, 2670 Co Rd E East\, White Bear Lake\, MN\, 55110\, United States
ATTACH;FMTTYPE=image/png:https://littlevillagepub.com/wp-content/uploads/2025/03/Sunday-Bingo-LVP.png
END:VEVENT
BEGIN:VEVENT
DTSTART;TZID=America/Chicago:20281112T180000
DTEND;TZID=America/Chicago:20281112T200000
DTSTAMP:20260422T221502
CREATED:20250715T152209Z
LAST-MODIFIED:20250716T184504Z
UID:10002264-1857664800-1857672000@littlevillagepub.com
SUMMARY:Sunday Trivia
DESCRIPTION:Trivia at 6:00pm\n\n\n\n\nWin prizes with our friends from Get A Clu Trivia!\nWin gift cards\, swag prizes\, trophies and more.\nPLUS ALL DAY HAPPY HOUR!!!
URL:https://littlevillagepub.com/event/sunday-trivia/2028-11-12/
LOCATION:Little Village Pub\, 2670 Co Rd E East\, White Bear Lake\, MN\, 55110\, United States
ATTACH;FMTTYPE=image/jpeg:https://littlevillagepub.com/wp-content/uploads/2025/07/Sunday-Funday_trivia.jpg
END:VEVENT
BEGIN:VEVENT
DTSTART;TZID=America/Chicago:20281113T183000
DTEND;TZID=America/Chicago:20281113T213000
DTSTAMP:20260422T221502
CREATED:20250908T191848Z
LAST-MODIFIED:20250908T192059Z
UID:10000182-1857753000-1857763800@littlevillagepub.com
SUMMARY:COACH PURSE BINGO
DESCRIPTION:Win that purse you’ve always wanted\, every Monday except the 3rd Monday of each month!\nStarts at 6:30pm.\nHosted by: Merrick Inc Charitable Gambling
URL:https://littlevillagepub.com/event/coach-purse-bingo-2/2028-11-13/
LOCATION:Little Village Pub\, 2670 Co Rd E East\, White Bear Lake\, MN\, 55110\, United States
ATTACH;FMTTYPE=image/jpeg:https://littlevillagepub.com/wp-content/uploads/2025/07/Coach-Purse-Bingo_Monday_Xmas-crew.jpg
END:VEVENT
BEGIN:VEVENT
DTSTART;TZID=America/Chicago:20281114T170000
DTEND;TZID=America/Chicago:20281114T200000
DTSTAMP:20260422T221502
CREATED:20250715T150237Z
LAST-MODIFIED:20250716T184227Z
UID:10000441-1857834000-1857844800@littlevillagepub.com
SUMMARY:Kids Eat Free!!!
DESCRIPTION:KIDS EAT FREE!\n\n\n\n\nKids 12 and under eat free 5-8pm.\n\n\n\n\n1 free kids meal per 1 adult meal.
URL:https://littlevillagepub.com/event/kids-eat-free/2028-11-14/
LOCATION:Little Village Pub\, 2670 Co Rd E East\, White Bear Lake\, MN\, 55110\, United States
ATTACH;FMTTYPE=image/jpeg:https://littlevillagepub.com/wp-content/uploads/2025/07/kids-eat-free-5-26-25.jpg
END:VEVENT
BEGIN:VEVENT
DTSTART;TZID=America/Chicago:20281115T200000
DTEND;TZID=America/Chicago:20281115T235900
DTSTAMP:20260422T221502
CREATED:20250715T150507Z
LAST-MODIFIED:20250716T184124Z
UID:10000700-1857931200-1857945540@littlevillagepub.com
SUMMARY:Karaoke Night!
DESCRIPTION:KARAOKE NIGHT\n\n\n\n\nStarts at 8:00pm -12:00am every other Wed\nCome on in and sing Karaoke with Twilight Karaoke every other Wed night!
URL:https://littlevillagepub.com/event/karaoke-night/2028-11-15/
LOCATION:Little Village Pub\, 2670 Co Rd E East\, White Bear Lake\, MN\, 55110\, United States
ATTACH;FMTTYPE=image/png:https://littlevillagepub.com/wp-content/uploads/2025/07/Karaoke-Wednesdays-new-LVP.png
END:VEVENT
BEGIN:VEVENT
DTSTART;TZID=America/Chicago:20281117T173000
DTEND;TZID=America/Chicago:20281117T193000
DTSTAMP:20260422T221502
CREATED:20250715T151133Z
LAST-MODIFIED:20250717T180918Z
UID:10002525-1858095000-1858102200@littlevillagepub.com
SUMMARY:Meat Raffle
DESCRIPTION:Starts at 5:30pm\n\n\n\n\nWin some meats from Borchert Meat Market!
URL:https://littlevillagepub.com/event/meat-raffle/2028-11-17/
LOCATION:Little Village Pub\, 2670 Co Rd E East\, White Bear Lake\, MN\, 55110\, United States
ATTACH;FMTTYPE=image/jpeg:https://littlevillagepub.com/wp-content/uploads/2025/07/Meat-raffle-meat-dress.jpg
END:VEVENT
BEGIN:VEVENT
DTSTART;TZID=America/Chicago:20281118T090000
DTEND;TZID=America/Chicago:20281118T230000
DTSTAMP:20260422T221502
CREATED:20250715T151441Z
LAST-MODIFIED:20250716T184141Z
UID:10001216-1858150800-1858201200@littlevillagepub.com
SUMMARY:Saturday Breakfast Bingo
DESCRIPTION:Breakfast 8am | Bingo 9am.\n$1000 Coverall\, gift cards and more! Hosted by: Merrick Charitable Gambling 
URL:https://littlevillagepub.com/event/saturday-breakfast-bingo/2028-11-18/
LOCATION:Little Village Pub\, 2670 Co Rd E East\, White Bear Lake\, MN\, 55110\, United States
ATTACH;FMTTYPE=image/png:https://littlevillagepub.com/wp-content/uploads/2025/07/Saturday-Bingo-LVP.png
END:VEVENT
BEGIN:VEVENT
DTSTART;TZID=America/Chicago:20281118T210000
DTEND;TZID=America/Chicago:20281119T010000
DTSTAMP:20260422T221502
CREATED:20250715T151929Z
LAST-MODIFIED:20250716T184011Z
UID:10001474-1858194000-1858208400@littlevillagepub.com
SUMMARY:Saturday Night Karaoke
DESCRIPTION:Starts at 9:00pm -1:00am\n\n\n\n\nCome on in and sing Karaoke with Ick every Saturday night!
URL:https://littlevillagepub.com/event/saturday-night-karaoke/2028-11-18/
LOCATION:Little Village Pub\, 2670 Co Rd E East\, White Bear Lake\, MN\, 55110\, United States
ATTACH;FMTTYPE=image/jpeg:https://littlevillagepub.com/wp-content/uploads/2025/07/Karaoke_cable-guy.jpg
END:VEVENT
BEGIN:VEVENT
DTSTART;TZID=America/Chicago:20281119T090000
DTEND;TZID=America/Chicago:20281119T110000
DTSTAMP:20260422T221502
CREATED:20250908T191738Z
LAST-MODIFIED:20250908T191738Z
UID:10001732-1858237200-1858244400@littlevillagepub.com
SUMMARY:Sunday Breakfast Bingo
DESCRIPTION:Breakfast Bingo! 9am.\n$1000 Coverall\, gift cards and more! Hosted by: Merrick Charitable Gambling 
URL:https://littlevillagepub.com/event/sunday-breakfast-bingo-2/2028-11-19/
LOCATION:Little Village Pub\, 2670 Co Rd E East\, White Bear Lake\, MN\, 55110\, United States
ATTACH;FMTTYPE=image/png:https://littlevillagepub.com/wp-content/uploads/2025/03/Sunday-Bingo-LVP.png
END:VEVENT
BEGIN:VEVENT
DTSTART;TZID=America/Chicago:20281119T180000
DTEND;TZID=America/Chicago:20281119T200000
DTSTAMP:20260422T221503
CREATED:20250715T152209Z
LAST-MODIFIED:20250716T184504Z
UID:10002265-1858269600-1858276800@littlevillagepub.com
SUMMARY:Sunday Trivia
DESCRIPTION:Trivia at 6:00pm\n\n\n\n\nWin prizes with our friends from Get A Clu Trivia!\nWin gift cards\, swag prizes\, trophies and more.\nPLUS ALL DAY HAPPY HOUR!!!
URL:https://littlevillagepub.com/event/sunday-trivia/2028-11-19/
LOCATION:Little Village Pub\, 2670 Co Rd E East\, White Bear Lake\, MN\, 55110\, United States
ATTACH;FMTTYPE=image/jpeg:https://littlevillagepub.com/wp-content/uploads/2025/07/Sunday-Funday_trivia.jpg
END:VEVENT
BEGIN:VEVENT
DTSTART;TZID=America/Chicago:20281120T183000
DTEND;TZID=America/Chicago:20281120T213000
DTSTAMP:20260422T221503
CREATED:20250818T181937Z
LAST-MODIFIED:20250818T182126Z
UID:10002860-1858357800-1858368600@littlevillagepub.com
SUMMARY:MANCAVE BINGO
DESCRIPTION:Win Manly prizes\, every 3rd Monday of each month!\nWin tools\, sports tickets\, coolers\, gift cards TVs and more!\nStarts at 6:30pm.\nHosted by: Merrick Inc Charitable Gambling
URL:https://littlevillagepub.com/event/mancave-bingo/2028-11-20/
LOCATION:Little Village Pub\, 2670 Co Rd E East\, White Bear Lake\, MN\, 55110\, United States
ATTACH;FMTTYPE=image/png:https://littlevillagepub.com/wp-content/uploads/2025/08/Man-Cave-Bingo-LVP-v2.png
END:VEVENT
BEGIN:VEVENT
DTSTART;TZID=America/Chicago:20281121T170000
DTEND;TZID=America/Chicago:20281121T200000
DTSTAMP:20260422T221503
CREATED:20250715T150237Z
LAST-MODIFIED:20250716T184227Z
UID:10000442-1858438800-1858449600@littlevillagepub.com
SUMMARY:Kids Eat Free!!!
DESCRIPTION:KIDS EAT FREE!\n\n\n\n\nKids 12 and under eat free 5-8pm.\n\n\n\n\n1 free kids meal per 1 adult meal.
URL:https://littlevillagepub.com/event/kids-eat-free/2028-11-21/
LOCATION:Little Village Pub\, 2670 Co Rd E East\, White Bear Lake\, MN\, 55110\, United States
ATTACH;FMTTYPE=image/jpeg:https://littlevillagepub.com/wp-content/uploads/2025/07/kids-eat-free-5-26-25.jpg
END:VEVENT
BEGIN:VEVENT
DTSTART;TZID=America/Chicago:20281122T200000
DTEND;TZID=America/Chicago:20281122T235900
DTSTAMP:20260422T221503
CREATED:20250715T150507Z
LAST-MODIFIED:20250716T184124Z
UID:10000701-1858536000-1858550340@littlevillagepub.com
SUMMARY:Karaoke Night!
DESCRIPTION:KARAOKE NIGHT\n\n\n\n\nStarts at 8:00pm -12:00am every other Wed\nCome on in and sing Karaoke with Twilight Karaoke every other Wed night!
URL:https://littlevillagepub.com/event/karaoke-night/2028-11-22/
LOCATION:Little Village Pub\, 2670 Co Rd E East\, White Bear Lake\, MN\, 55110\, United States
ATTACH;FMTTYPE=image/png:https://littlevillagepub.com/wp-content/uploads/2025/07/Karaoke-Wednesdays-new-LVP.png
END:VEVENT
BEGIN:VEVENT
DTSTART;TZID=America/Chicago:20281124T173000
DTEND;TZID=America/Chicago:20281124T193000
DTSTAMP:20260422T221503
CREATED:20250715T151133Z
LAST-MODIFIED:20250717T180918Z
UID:10002526-1858699800-1858707000@littlevillagepub.com
SUMMARY:Meat Raffle
DESCRIPTION:Starts at 5:30pm\n\n\n\n\nWin some meats from Borchert Meat Market!
URL:https://littlevillagepub.com/event/meat-raffle/2028-11-24/
LOCATION:Little Village Pub\, 2670 Co Rd E East\, White Bear Lake\, MN\, 55110\, United States
ATTACH;FMTTYPE=image/jpeg:https://littlevillagepub.com/wp-content/uploads/2025/07/Meat-raffle-meat-dress.jpg
END:VEVENT
BEGIN:VEVENT
DTSTART;TZID=America/Chicago:20281125T090000
DTEND;TZID=America/Chicago:20281125T230000
DTSTAMP:20260422T221503
CREATED:20250715T151441Z
LAST-MODIFIED:20250716T184141Z
UID:10001217-1858755600-1858806000@littlevillagepub.com
SUMMARY:Saturday Breakfast Bingo
DESCRIPTION:Breakfast 8am | Bingo 9am.\n$1000 Coverall\, gift cards and more! Hosted by: Merrick Charitable Gambling 
URL:https://littlevillagepub.com/event/saturday-breakfast-bingo/2028-11-25/
LOCATION:Little Village Pub\, 2670 Co Rd E East\, White Bear Lake\, MN\, 55110\, United States
ATTACH;FMTTYPE=image/png:https://littlevillagepub.com/wp-content/uploads/2025/07/Saturday-Bingo-LVP.png
END:VEVENT
BEGIN:VEVENT
DTSTART;TZID=America/Chicago:20281125T210000
DTEND;TZID=America/Chicago:20281126T010000
DTSTAMP:20260422T221503
CREATED:20250715T151929Z
LAST-MODIFIED:20250716T184011Z
UID:10001475-1858798800-1858813200@littlevillagepub.com
SUMMARY:Saturday Night Karaoke
DESCRIPTION:Starts at 9:00pm -1:00am\n\n\n\n\nCome on in and sing Karaoke with Ick every Saturday night!
URL:https://littlevillagepub.com/event/saturday-night-karaoke/2028-11-25/
LOCATION:Little Village Pub\, 2670 Co Rd E East\, White Bear Lake\, MN\, 55110\, United States
ATTACH;FMTTYPE=image/jpeg:https://littlevillagepub.com/wp-content/uploads/2025/07/Karaoke_cable-guy.jpg
END:VEVENT
BEGIN:VEVENT
DTSTART;TZID=America/Chicago:20281126T090000
DTEND;TZID=America/Chicago:20281126T110000
DTSTAMP:20260422T221503
CREATED:20250908T191738Z
LAST-MODIFIED:20250908T191738Z
UID:10001733-1858842000-1858849200@littlevillagepub.com
SUMMARY:Sunday Breakfast Bingo
DESCRIPTION:Breakfast Bingo! 9am.\n$1000 Coverall\, gift cards and more! Hosted by: Merrick Charitable Gambling 
URL:https://littlevillagepub.com/event/sunday-breakfast-bingo-2/2028-11-26/
LOCATION:Little Village Pub\, 2670 Co Rd E East\, White Bear Lake\, MN\, 55110\, United States
ATTACH;FMTTYPE=image/png:https://littlevillagepub.com/wp-content/uploads/2025/03/Sunday-Bingo-LVP.png
END:VEVENT
BEGIN:VEVENT
DTSTART;TZID=America/Chicago:20281126T180000
DTEND;TZID=America/Chicago:20281126T200000
DTSTAMP:20260422T221503
CREATED:20250715T152209Z
LAST-MODIFIED:20250716T184504Z
UID:10002266-1858874400-1858881600@littlevillagepub.com
SUMMARY:Sunday Trivia
DESCRIPTION:Trivia at 6:00pm\n\n\n\n\nWin prizes with our friends from Get A Clu Trivia!\nWin gift cards\, swag prizes\, trophies and more.\nPLUS ALL DAY HAPPY HOUR!!!
URL:https://littlevillagepub.com/event/sunday-trivia/2028-11-26/
LOCATION:Little Village Pub\, 2670 Co Rd E East\, White Bear Lake\, MN\, 55110\, United States
ATTACH;FMTTYPE=image/jpeg:https://littlevillagepub.com/wp-content/uploads/2025/07/Sunday-Funday_trivia.jpg
END:VEVENT
BEGIN:VEVENT
DTSTART;TZID=America/Chicago:20281127T183000
DTEND;TZID=America/Chicago:20281127T213000
DTSTAMP:20260422T221503
CREATED:20250908T191848Z
LAST-MODIFIED:20250908T192059Z
UID:10000184-1858962600-1858973400@littlevillagepub.com
SUMMARY:COACH PURSE BINGO
DESCRIPTION:Win that purse you’ve always wanted\, every Monday except the 3rd Monday of each month!\nStarts at 6:30pm.\nHosted by: Merrick Inc Charitable Gambling
URL:https://littlevillagepub.com/event/coach-purse-bingo-2/2028-11-27/
LOCATION:Little Village Pub\, 2670 Co Rd E East\, White Bear Lake\, MN\, 55110\, United States
ATTACH;FMTTYPE=image/jpeg:https://littlevillagepub.com/wp-content/uploads/2025/07/Coach-Purse-Bingo_Monday_Xmas-crew.jpg
END:VEVENT
BEGIN:VEVENT
DTSTART;TZID=America/Chicago:20281128T170000
DTEND;TZID=America/Chicago:20281128T200000
DTSTAMP:20260422T221503
CREATED:20250715T150237Z
LAST-MODIFIED:20250716T184227Z
UID:10000443-1859043600-1859054400@littlevillagepub.com
SUMMARY:Kids Eat Free!!!
DESCRIPTION:KIDS EAT FREE!\n\n\n\n\nKids 12 and under eat free 5-8pm.\n\n\n\n\n1 free kids meal per 1 adult meal.
URL:https://littlevillagepub.com/event/kids-eat-free/2028-11-28/
LOCATION:Little Village Pub\, 2670 Co Rd E East\, White Bear Lake\, MN\, 55110\, United States
ATTACH;FMTTYPE=image/jpeg:https://littlevillagepub.com/wp-content/uploads/2025/07/kids-eat-free-5-26-25.jpg
END:VEVENT
BEGIN:VEVENT
DTSTART;TZID=America/Chicago:20281129T200000
DTEND;TZID=America/Chicago:20281129T235900
DTSTAMP:20260422T221503
CREATED:20250715T150507Z
LAST-MODIFIED:20250716T184124Z
UID:10000702-1859140800-1859155140@littlevillagepub.com
SUMMARY:Karaoke Night!
DESCRIPTION:KARAOKE NIGHT\n\n\n\n\nStarts at 8:00pm -12:00am every other Wed\nCome on in and sing Karaoke with Twilight Karaoke every other Wed night!
URL:https://littlevillagepub.com/event/karaoke-night/2028-11-29/
LOCATION:Little Village Pub\, 2670 Co Rd E East\, White Bear Lake\, MN\, 55110\, United States
ATTACH;FMTTYPE=image/png:https://littlevillagepub.com/wp-content/uploads/2025/07/Karaoke-Wednesdays-new-LVP.png
END:VEVENT
BEGIN:VEVENT
DTSTART;TZID=America/Chicago:20281201T173000
DTEND;TZID=America/Chicago:20281201T193000
DTSTAMP:20260422T221503
CREATED:20250715T151133Z
LAST-MODIFIED:20250717T180918Z
UID:10002527-1859304600-1859311800@littlevillagepub.com
SUMMARY:Meat Raffle
DESCRIPTION:Starts at 5:30pm\n\n\n\n\nWin some meats from Borchert Meat Market!
URL:https://littlevillagepub.com/event/meat-raffle/2028-12-01/
LOCATION:Little Village Pub\, 2670 Co Rd E East\, White Bear Lake\, MN\, 55110\, United States
ATTACH;FMTTYPE=image/jpeg:https://littlevillagepub.com/wp-content/uploads/2025/07/Meat-raffle-meat-dress.jpg
END:VEVENT
BEGIN:VEVENT
DTSTART;TZID=America/Chicago:20281202T090000
DTEND;TZID=America/Chicago:20281202T230000
DTSTAMP:20260422T221503
CREATED:20250715T151441Z
LAST-MODIFIED:20250716T184141Z
UID:10001218-1859360400-1859410800@littlevillagepub.com
SUMMARY:Saturday Breakfast Bingo
DESCRIPTION:Breakfast 8am | Bingo 9am.\n$1000 Coverall\, gift cards and more! Hosted by: Merrick Charitable Gambling 
URL:https://littlevillagepub.com/event/saturday-breakfast-bingo/2028-12-02/
LOCATION:Little Village Pub\, 2670 Co Rd E East\, White Bear Lake\, MN\, 55110\, United States
ATTACH;FMTTYPE=image/png:https://littlevillagepub.com/wp-content/uploads/2025/07/Saturday-Bingo-LVP.png
END:VEVENT
BEGIN:VEVENT
DTSTART;TZID=America/Chicago:20281202T210000
DTEND;TZID=America/Chicago:20281203T010000
DTSTAMP:20260422T221503
CREATED:20250715T151929Z
LAST-MODIFIED:20250716T184011Z
UID:10001476-1859403600-1859418000@littlevillagepub.com
SUMMARY:Saturday Night Karaoke
DESCRIPTION:Starts at 9:00pm -1:00am\n\n\n\n\nCome on in and sing Karaoke with Ick every Saturday night!
URL:https://littlevillagepub.com/event/saturday-night-karaoke/2028-12-02/
LOCATION:Little Village Pub\, 2670 Co Rd E East\, White Bear Lake\, MN\, 55110\, United States
ATTACH;FMTTYPE=image/jpeg:https://littlevillagepub.com/wp-content/uploads/2025/07/Karaoke_cable-guy.jpg
END:VEVENT
BEGIN:VEVENT
DTSTART;TZID=America/Chicago:20281203T090000
DTEND;TZID=America/Chicago:20281203T110000
DTSTAMP:20260422T221503
CREATED:20250908T191738Z
LAST-MODIFIED:20250908T191738Z
UID:10001734-1859446800-1859454000@littlevillagepub.com
SUMMARY:Sunday Breakfast Bingo
DESCRIPTION:Breakfast Bingo! 9am.\n$1000 Coverall\, gift cards and more! Hosted by: Merrick Charitable Gambling 
URL:https://littlevillagepub.com/event/sunday-breakfast-bingo-2/2028-12-03/
LOCATION:Little Village Pub\, 2670 Co Rd E East\, White Bear Lake\, MN\, 55110\, United States
ATTACH;FMTTYPE=image/png:https://littlevillagepub.com/wp-content/uploads/2025/03/Sunday-Bingo-LVP.png
END:VEVENT
BEGIN:VEVENT
DTSTART;TZID=America/Chicago:20281203T180000
DTEND;TZID=America/Chicago:20281203T200000
DTSTAMP:20260422T221503
CREATED:20250715T152209Z
LAST-MODIFIED:20250716T184504Z
UID:10002267-1859479200-1859486400@littlevillagepub.com
SUMMARY:Sunday Trivia
DESCRIPTION:Trivia at 6:00pm\n\n\n\n\nWin prizes with our friends from Get A Clu Trivia!\nWin gift cards\, swag prizes\, trophies and more.\nPLUS ALL DAY HAPPY HOUR!!!
URL:https://littlevillagepub.com/event/sunday-trivia/2028-12-03/
LOCATION:Little Village Pub\, 2670 Co Rd E East\, White Bear Lake\, MN\, 55110\, United States
ATTACH;FMTTYPE=image/jpeg:https://littlevillagepub.com/wp-content/uploads/2025/07/Sunday-Funday_trivia.jpg
END:VEVENT
BEGIN:VEVENT
DTSTART;TZID=America/Chicago:20281204T183000
DTEND;TZID=America/Chicago:20281204T213000
DTSTAMP:20260422T221503
CREATED:20250908T191848Z
LAST-MODIFIED:20250908T192059Z
UID:10000185-1859567400-1859578200@littlevillagepub.com
SUMMARY:COACH PURSE BINGO
DESCRIPTION:Win that purse you’ve always wanted\, every Monday except the 3rd Monday of each month!\nStarts at 6:30pm.\nHosted by: Merrick Inc Charitable Gambling
URL:https://littlevillagepub.com/event/coach-purse-bingo-2/2028-12-04/
LOCATION:Little Village Pub\, 2670 Co Rd E East\, White Bear Lake\, MN\, 55110\, United States
ATTACH;FMTTYPE=image/jpeg:https://littlevillagepub.com/wp-content/uploads/2025/07/Coach-Purse-Bingo_Monday_Xmas-crew.jpg
END:VEVENT
BEGIN:VEVENT
DTSTART;TZID=America/Chicago:20281205T170000
DTEND;TZID=America/Chicago:20281205T200000
DTSTAMP:20260422T221503
CREATED:20250715T150237Z
LAST-MODIFIED:20250716T184227Z
UID:10000444-1859648400-1859659200@littlevillagepub.com
SUMMARY:Kids Eat Free!!!
DESCRIPTION:KIDS EAT FREE!\n\n\n\n\nKids 12 and under eat free 5-8pm.\n\n\n\n\n1 free kids meal per 1 adult meal.
URL:https://littlevillagepub.com/event/kids-eat-free/2028-12-05/
LOCATION:Little Village Pub\, 2670 Co Rd E East\, White Bear Lake\, MN\, 55110\, United States
ATTACH;FMTTYPE=image/jpeg:https://littlevillagepub.com/wp-content/uploads/2025/07/kids-eat-free-5-26-25.jpg
END:VEVENT
BEGIN:VEVENT
DTSTART;TZID=America/Chicago:20281206T200000
DTEND;TZID=America/Chicago:20281206T235900
DTSTAMP:20260422T221503
CREATED:20250715T150507Z
LAST-MODIFIED:20250716T184124Z
UID:10000703-1859745600-1859759940@littlevillagepub.com
SUMMARY:Karaoke Night!
DESCRIPTION:KARAOKE NIGHT\n\n\n\n\nStarts at 8:00pm -12:00am every other Wed\nCome on in and sing Karaoke with Twilight Karaoke every other Wed night!
URL:https://littlevillagepub.com/event/karaoke-night/2028-12-06/
LOCATION:Little Village Pub\, 2670 Co Rd E East\, White Bear Lake\, MN\, 55110\, United States
ATTACH;FMTTYPE=image/png:https://littlevillagepub.com/wp-content/uploads/2025/07/Karaoke-Wednesdays-new-LVP.png
END:VEVENT
BEGIN:VEVENT
DTSTART;TZID=America/Chicago:20281208T173000
DTEND;TZID=America/Chicago:20281208T193000
DTSTAMP:20260422T221503
CREATED:20250715T151133Z
LAST-MODIFIED:20250717T180918Z
UID:10002528-1859909400-1859916600@littlevillagepub.com
SUMMARY:Meat Raffle
DESCRIPTION:Starts at 5:30pm\n\n\n\n\nWin some meats from Borchert Meat Market!
URL:https://littlevillagepub.com/event/meat-raffle/2028-12-08/
LOCATION:Little Village Pub\, 2670 Co Rd E East\, White Bear Lake\, MN\, 55110\, United States
ATTACH;FMTTYPE=image/jpeg:https://littlevillagepub.com/wp-content/uploads/2025/07/Meat-raffle-meat-dress.jpg
END:VEVENT
END:VCALENDAR