BEGIN:VCALENDAR
VERSION:2.0
PRODID:-//Little Village Pub - ECPv6.15.20//NONSGML v1.0//EN
CALSCALE:GREGORIAN
METHOD:PUBLISH
X-ORIGINAL-URL:https://littlevillagepub.com
X-WR-CALDESC:Events for Little Village Pub
REFRESH-INTERVAL;VALUE=DURATION:PT1H
X-Robots-Tag:noindex
X-PUBLISHED-TTL:PT1H
BEGIN:VTIMEZONE
TZID:America/Chicago
BEGIN:DAYLIGHT
TZOFFSETFROM:-0600
TZOFFSETTO:-0500
TZNAME:CDT
DTSTART:20280312T080000
END:DAYLIGHT
BEGIN:STANDARD
TZOFFSETFROM:-0500
TZOFFSETTO:-0600
TZNAME:CST
DTSTART:20281105T070000
END:STANDARD
BEGIN:DAYLIGHT
TZOFFSETFROM:-0600
TZOFFSETTO:-0500
TZNAME:CDT
DTSTART:20290311T080000
END:DAYLIGHT
BEGIN:STANDARD
TZOFFSETFROM:-0500
TZOFFSETTO:-0600
TZNAME:CST
DTSTART:20291104T070000
END:STANDARD
BEGIN:DAYLIGHT
TZOFFSETFROM:-0600
TZOFFSETTO:-0500
TZNAME:CDT
DTSTART:20300310T080000
END:DAYLIGHT
BEGIN:STANDARD
TZOFFSETFROM:-0500
TZOFFSETTO:-0600
TZNAME:CST
DTSTART:20301103T070000
END:STANDARD
END:VTIMEZONE
BEGIN:VEVENT
DTSTART;TZID=America/Chicago:20290418T200000
DTEND;TZID=America/Chicago:20290418T235900
DTSTAMP:20260422T030722
CREATED:20250715T150507Z
LAST-MODIFIED:20250716T184124Z
UID:10000722-1871236800-1871251140@littlevillagepub.com
SUMMARY:Karaoke Night!
DESCRIPTION:KARAOKE NIGHT\n\n\n\n\nStarts at 8:00pm -12:00am every other Wed\nCome on in and sing Karaoke with Twilight Karaoke every other Wed night!
URL:https://littlevillagepub.com/event/karaoke-night/2029-04-18/
LOCATION:Little Village Pub\, 2670 Co Rd E East\, White Bear Lake\, MN\, 55110\, United States
ATTACH;FMTTYPE=image/png:https://littlevillagepub.com/wp-content/uploads/2025/07/Karaoke-Wednesdays-new-LVP.png
END:VEVENT
BEGIN:VEVENT
DTSTART;TZID=America/Chicago:20290420T173000
DTEND;TZID=America/Chicago:20290420T193000
DTSTAMP:20260422T030722
CREATED:20250715T151133Z
LAST-MODIFIED:20250717T180918Z
UID:10002547-1871400600-1871407800@littlevillagepub.com
SUMMARY:Meat Raffle
DESCRIPTION:Starts at 5:30pm\n\n\n\n\nWin some meats from Borchert Meat Market!
URL:https://littlevillagepub.com/event/meat-raffle/2029-04-20/
LOCATION:Little Village Pub\, 2670 Co Rd E East\, White Bear Lake\, MN\, 55110\, United States
ATTACH;FMTTYPE=image/jpeg:https://littlevillagepub.com/wp-content/uploads/2025/07/Meat-raffle-meat-dress.jpg
END:VEVENT
BEGIN:VEVENT
DTSTART;TZID=America/Chicago:20290421T090000
DTEND;TZID=America/Chicago:20290421T230000
DTSTAMP:20260422T030722
CREATED:20250715T151441Z
LAST-MODIFIED:20250716T184141Z
UID:10001238-1871456400-1871506800@littlevillagepub.com
SUMMARY:Saturday Breakfast Bingo
DESCRIPTION:Breakfast 8am | Bingo 9am.\n$1000 Coverall\, gift cards and more! Hosted by: Merrick Charitable Gambling 
URL:https://littlevillagepub.com/event/saturday-breakfast-bingo/2029-04-21/
LOCATION:Little Village Pub\, 2670 Co Rd E East\, White Bear Lake\, MN\, 55110\, United States
ATTACH;FMTTYPE=image/png:https://littlevillagepub.com/wp-content/uploads/2025/07/Saturday-Bingo-LVP.png
END:VEVENT
BEGIN:VEVENT
DTSTART;TZID=America/Chicago:20290421T210000
DTEND;TZID=America/Chicago:20290422T010000
DTSTAMP:20260422T030722
CREATED:20250715T151929Z
LAST-MODIFIED:20250716T184011Z
UID:10001496-1871499600-1871514000@littlevillagepub.com
SUMMARY:Saturday Night Karaoke
DESCRIPTION:Starts at 9:00pm -1:00am\n\n\n\n\nCome on in and sing Karaoke with Ick every Saturday night!
URL:https://littlevillagepub.com/event/saturday-night-karaoke/2029-04-21/
LOCATION:Little Village Pub\, 2670 Co Rd E East\, White Bear Lake\, MN\, 55110\, United States
ATTACH;FMTTYPE=image/jpeg:https://littlevillagepub.com/wp-content/uploads/2025/07/Karaoke_cable-guy.jpg
END:VEVENT
BEGIN:VEVENT
DTSTART;TZID=America/Chicago:20290422T090000
DTEND;TZID=America/Chicago:20290422T110000
DTSTAMP:20260422T030722
CREATED:20250908T191738Z
LAST-MODIFIED:20250908T191738Z
UID:10001754-1871542800-1871550000@littlevillagepub.com
SUMMARY:Sunday Breakfast Bingo
DESCRIPTION:Breakfast Bingo! 9am.\n$1000 Coverall\, gift cards and more! Hosted by: Merrick Charitable Gambling 
URL:https://littlevillagepub.com/event/sunday-breakfast-bingo-2/2029-04-22/
LOCATION:Little Village Pub\, 2670 Co Rd E East\, White Bear Lake\, MN\, 55110\, United States
ATTACH;FMTTYPE=image/png:https://littlevillagepub.com/wp-content/uploads/2025/03/Sunday-Bingo-LVP.png
END:VEVENT
BEGIN:VEVENT
DTSTART;TZID=America/Chicago:20290422T180000
DTEND;TZID=America/Chicago:20290422T200000
DTSTAMP:20260422T030722
CREATED:20250715T152209Z
LAST-MODIFIED:20250716T184504Z
UID:10002287-1871575200-1871582400@littlevillagepub.com
SUMMARY:Sunday Trivia
DESCRIPTION:Trivia at 6:00pm\n\n\n\n\nWin prizes with our friends from Get A Clu Trivia!\nWin gift cards\, swag prizes\, trophies and more.\nPLUS ALL DAY HAPPY HOUR!!!
URL:https://littlevillagepub.com/event/sunday-trivia/2029-04-22/
LOCATION:Little Village Pub\, 2670 Co Rd E East\, White Bear Lake\, MN\, 55110\, United States
ATTACH;FMTTYPE=image/jpeg:https://littlevillagepub.com/wp-content/uploads/2025/07/Sunday-Funday_trivia.jpg
END:VEVENT
BEGIN:VEVENT
DTSTART;TZID=America/Chicago:20290423T183000
DTEND;TZID=America/Chicago:20290423T213000
DTSTAMP:20260422T030722
CREATED:20250908T191848Z
LAST-MODIFIED:20250908T192059Z
UID:10000205-1871663400-1871674200@littlevillagepub.com
SUMMARY:COACH PURSE BINGO
DESCRIPTION:Win that purse you’ve always wanted\, every Monday except the 3rd Monday of each month!\nStarts at 6:30pm.\nHosted by: Merrick Inc Charitable Gambling
URL:https://littlevillagepub.com/event/coach-purse-bingo-2/2029-04-23/
LOCATION:Little Village Pub\, 2670 Co Rd E East\, White Bear Lake\, MN\, 55110\, United States
ATTACH;FMTTYPE=image/jpeg:https://littlevillagepub.com/wp-content/uploads/2025/07/Coach-Purse-Bingo_Monday_Xmas-crew.jpg
END:VEVENT
BEGIN:VEVENT
DTSTART;TZID=America/Chicago:20290424T170000
DTEND;TZID=America/Chicago:20290424T200000
DTSTAMP:20260422T030722
CREATED:20250715T150237Z
LAST-MODIFIED:20250716T184227Z
UID:10000464-1871744400-1871755200@littlevillagepub.com
SUMMARY:Kids Eat Free!!!
DESCRIPTION:KIDS EAT FREE!\n\n\n\n\nKids 12 and under eat free 5-8pm.\n\n\n\n\n1 free kids meal per 1 adult meal.
URL:https://littlevillagepub.com/event/kids-eat-free/2029-04-24/
LOCATION:Little Village Pub\, 2670 Co Rd E East\, White Bear Lake\, MN\, 55110\, United States
ATTACH;FMTTYPE=image/jpeg:https://littlevillagepub.com/wp-content/uploads/2025/07/kids-eat-free-5-26-25.jpg
END:VEVENT
BEGIN:VEVENT
DTSTART;TZID=America/Chicago:20290425T200000
DTEND;TZID=America/Chicago:20290425T235900
DTSTAMP:20260422T030722
CREATED:20250715T150507Z
LAST-MODIFIED:20250716T184124Z
UID:10000723-1871841600-1871855940@littlevillagepub.com
SUMMARY:Karaoke Night!
DESCRIPTION:KARAOKE NIGHT\n\n\n\n\nStarts at 8:00pm -12:00am every other Wed\nCome on in and sing Karaoke with Twilight Karaoke every other Wed night!
URL:https://littlevillagepub.com/event/karaoke-night/2029-04-25/
LOCATION:Little Village Pub\, 2670 Co Rd E East\, White Bear Lake\, MN\, 55110\, United States
ATTACH;FMTTYPE=image/png:https://littlevillagepub.com/wp-content/uploads/2025/07/Karaoke-Wednesdays-new-LVP.png
END:VEVENT
BEGIN:VEVENT
DTSTART;TZID=America/Chicago:20290427T173000
DTEND;TZID=America/Chicago:20290427T193000
DTSTAMP:20260422T030722
CREATED:20250715T151133Z
LAST-MODIFIED:20250717T180918Z
UID:10002548-1872005400-1872012600@littlevillagepub.com
SUMMARY:Meat Raffle
DESCRIPTION:Starts at 5:30pm\n\n\n\n\nWin some meats from Borchert Meat Market!
URL:https://littlevillagepub.com/event/meat-raffle/2029-04-27/
LOCATION:Little Village Pub\, 2670 Co Rd E East\, White Bear Lake\, MN\, 55110\, United States
ATTACH;FMTTYPE=image/jpeg:https://littlevillagepub.com/wp-content/uploads/2025/07/Meat-raffle-meat-dress.jpg
END:VEVENT
BEGIN:VEVENT
DTSTART;TZID=America/Chicago:20290428T090000
DTEND;TZID=America/Chicago:20290428T230000
DTSTAMP:20260422T030722
CREATED:20250715T151441Z
LAST-MODIFIED:20250716T184141Z
UID:10001239-1872061200-1872111600@littlevillagepub.com
SUMMARY:Saturday Breakfast Bingo
DESCRIPTION:Breakfast 8am | Bingo 9am.\n$1000 Coverall\, gift cards and more! Hosted by: Merrick Charitable Gambling 
URL:https://littlevillagepub.com/event/saturday-breakfast-bingo/2029-04-28/
LOCATION:Little Village Pub\, 2670 Co Rd E East\, White Bear Lake\, MN\, 55110\, United States
ATTACH;FMTTYPE=image/png:https://littlevillagepub.com/wp-content/uploads/2025/07/Saturday-Bingo-LVP.png
END:VEVENT
BEGIN:VEVENT
DTSTART;TZID=America/Chicago:20290428T210000
DTEND;TZID=America/Chicago:20290429T010000
DTSTAMP:20260422T030722
CREATED:20250715T151929Z
LAST-MODIFIED:20250716T184011Z
UID:10001497-1872104400-1872118800@littlevillagepub.com
SUMMARY:Saturday Night Karaoke
DESCRIPTION:Starts at 9:00pm -1:00am\n\n\n\n\nCome on in and sing Karaoke with Ick every Saturday night!
URL:https://littlevillagepub.com/event/saturday-night-karaoke/2029-04-28/
LOCATION:Little Village Pub\, 2670 Co Rd E East\, White Bear Lake\, MN\, 55110\, United States
ATTACH;FMTTYPE=image/jpeg:https://littlevillagepub.com/wp-content/uploads/2025/07/Karaoke_cable-guy.jpg
END:VEVENT
BEGIN:VEVENT
DTSTART;TZID=America/Chicago:20290429T090000
DTEND;TZID=America/Chicago:20290429T110000
DTSTAMP:20260422T030722
CREATED:20250908T191738Z
LAST-MODIFIED:20250908T191738Z
UID:10001755-1872147600-1872154800@littlevillagepub.com
SUMMARY:Sunday Breakfast Bingo
DESCRIPTION:Breakfast Bingo! 9am.\n$1000 Coverall\, gift cards and more! Hosted by: Merrick Charitable Gambling 
URL:https://littlevillagepub.com/event/sunday-breakfast-bingo-2/2029-04-29/
LOCATION:Little Village Pub\, 2670 Co Rd E East\, White Bear Lake\, MN\, 55110\, United States
ATTACH;FMTTYPE=image/png:https://littlevillagepub.com/wp-content/uploads/2025/03/Sunday-Bingo-LVP.png
END:VEVENT
BEGIN:VEVENT
DTSTART;TZID=America/Chicago:20290429T180000
DTEND;TZID=America/Chicago:20290429T200000
DTSTAMP:20260422T030722
CREATED:20250715T152209Z
LAST-MODIFIED:20250716T184504Z
UID:10002288-1872180000-1872187200@littlevillagepub.com
SUMMARY:Sunday Trivia
DESCRIPTION:Trivia at 6:00pm\n\n\n\n\nWin prizes with our friends from Get A Clu Trivia!\nWin gift cards\, swag prizes\, trophies and more.\nPLUS ALL DAY HAPPY HOUR!!!
URL:https://littlevillagepub.com/event/sunday-trivia/2029-04-29/
LOCATION:Little Village Pub\, 2670 Co Rd E East\, White Bear Lake\, MN\, 55110\, United States
ATTACH;FMTTYPE=image/jpeg:https://littlevillagepub.com/wp-content/uploads/2025/07/Sunday-Funday_trivia.jpg
END:VEVENT
BEGIN:VEVENT
DTSTART;TZID=America/Chicago:20290430T183000
DTEND;TZID=America/Chicago:20290430T213000
DTSTAMP:20260422T030722
CREATED:20250908T191848Z
LAST-MODIFIED:20250908T192059Z
UID:10000206-1872268200-1872279000@littlevillagepub.com
SUMMARY:COACH PURSE BINGO
DESCRIPTION:Win that purse you’ve always wanted\, every Monday except the 3rd Monday of each month!\nStarts at 6:30pm.\nHosted by: Merrick Inc Charitable Gambling
URL:https://littlevillagepub.com/event/coach-purse-bingo-2/2029-04-30/
LOCATION:Little Village Pub\, 2670 Co Rd E East\, White Bear Lake\, MN\, 55110\, United States
ATTACH;FMTTYPE=image/jpeg:https://littlevillagepub.com/wp-content/uploads/2025/07/Coach-Purse-Bingo_Monday_Xmas-crew.jpg
END:VEVENT
BEGIN:VEVENT
DTSTART;TZID=America/Chicago:20290501T170000
DTEND;TZID=America/Chicago:20290501T200000
DTSTAMP:20260422T030722
CREATED:20250715T150237Z
LAST-MODIFIED:20250716T184227Z
UID:10000465-1872349200-1872360000@littlevillagepub.com
SUMMARY:Kids Eat Free!!!
DESCRIPTION:KIDS EAT FREE!\n\n\n\n\nKids 12 and under eat free 5-8pm.\n\n\n\n\n1 free kids meal per 1 adult meal.
URL:https://littlevillagepub.com/event/kids-eat-free/2029-05-01/
LOCATION:Little Village Pub\, 2670 Co Rd E East\, White Bear Lake\, MN\, 55110\, United States
ATTACH;FMTTYPE=image/jpeg:https://littlevillagepub.com/wp-content/uploads/2025/07/kids-eat-free-5-26-25.jpg
END:VEVENT
BEGIN:VEVENT
DTSTART;TZID=America/Chicago:20290502T200000
DTEND;TZID=America/Chicago:20290502T235900
DTSTAMP:20260422T030722
CREATED:20250715T150507Z
LAST-MODIFIED:20250716T184124Z
UID:10000724-1872446400-1872460740@littlevillagepub.com
SUMMARY:Karaoke Night!
DESCRIPTION:KARAOKE NIGHT\n\n\n\n\nStarts at 8:00pm -12:00am every other Wed\nCome on in and sing Karaoke with Twilight Karaoke every other Wed night!
URL:https://littlevillagepub.com/event/karaoke-night/2029-05-02/
LOCATION:Little Village Pub\, 2670 Co Rd E East\, White Bear Lake\, MN\, 55110\, United States
ATTACH;FMTTYPE=image/png:https://littlevillagepub.com/wp-content/uploads/2025/07/Karaoke-Wednesdays-new-LVP.png
END:VEVENT
BEGIN:VEVENT
DTSTART;TZID=America/Chicago:20290504T173000
DTEND;TZID=America/Chicago:20290504T193000
DTSTAMP:20260422T030722
CREATED:20250715T151133Z
LAST-MODIFIED:20250717T180918Z
UID:10002549-1872610200-1872617400@littlevillagepub.com
SUMMARY:Meat Raffle
DESCRIPTION:Starts at 5:30pm\n\n\n\n\nWin some meats from Borchert Meat Market!
URL:https://littlevillagepub.com/event/meat-raffle/2029-05-04/
LOCATION:Little Village Pub\, 2670 Co Rd E East\, White Bear Lake\, MN\, 55110\, United States
ATTACH;FMTTYPE=image/jpeg:https://littlevillagepub.com/wp-content/uploads/2025/07/Meat-raffle-meat-dress.jpg
END:VEVENT
BEGIN:VEVENT
DTSTART;TZID=America/Chicago:20290505T090000
DTEND;TZID=America/Chicago:20290505T230000
DTSTAMP:20260422T030722
CREATED:20250715T151441Z
LAST-MODIFIED:20250716T184141Z
UID:10001240-1872666000-1872716400@littlevillagepub.com
SUMMARY:Saturday Breakfast Bingo
DESCRIPTION:Breakfast 8am | Bingo 9am.\n$1000 Coverall\, gift cards and more! Hosted by: Merrick Charitable Gambling 
URL:https://littlevillagepub.com/event/saturday-breakfast-bingo/2029-05-05/
LOCATION:Little Village Pub\, 2670 Co Rd E East\, White Bear Lake\, MN\, 55110\, United States
ATTACH;FMTTYPE=image/png:https://littlevillagepub.com/wp-content/uploads/2025/07/Saturday-Bingo-LVP.png
END:VEVENT
BEGIN:VEVENT
DTSTART;TZID=America/Chicago:20290505T210000
DTEND;TZID=America/Chicago:20290506T010000
DTSTAMP:20260422T030722
CREATED:20250715T151929Z
LAST-MODIFIED:20250716T184011Z
UID:10001498-1872709200-1872723600@littlevillagepub.com
SUMMARY:Saturday Night Karaoke
DESCRIPTION:Starts at 9:00pm -1:00am\n\n\n\n\nCome on in and sing Karaoke with Ick every Saturday night!
URL:https://littlevillagepub.com/event/saturday-night-karaoke/2029-05-05/
LOCATION:Little Village Pub\, 2670 Co Rd E East\, White Bear Lake\, MN\, 55110\, United States
ATTACH;FMTTYPE=image/jpeg:https://littlevillagepub.com/wp-content/uploads/2025/07/Karaoke_cable-guy.jpg
END:VEVENT
BEGIN:VEVENT
DTSTART;TZID=America/Chicago:20290506T090000
DTEND;TZID=America/Chicago:20290506T110000
DTSTAMP:20260422T030722
CREATED:20250908T191738Z
LAST-MODIFIED:20250908T191738Z
UID:10001756-1872752400-1872759600@littlevillagepub.com
SUMMARY:Sunday Breakfast Bingo
DESCRIPTION:Breakfast Bingo! 9am.\n$1000 Coverall\, gift cards and more! Hosted by: Merrick Charitable Gambling 
URL:https://littlevillagepub.com/event/sunday-breakfast-bingo-2/2029-05-06/
LOCATION:Little Village Pub\, 2670 Co Rd E East\, White Bear Lake\, MN\, 55110\, United States
ATTACH;FMTTYPE=image/png:https://littlevillagepub.com/wp-content/uploads/2025/03/Sunday-Bingo-LVP.png
END:VEVENT
BEGIN:VEVENT
DTSTART;TZID=America/Chicago:20290506T180000
DTEND;TZID=America/Chicago:20290506T200000
DTSTAMP:20260422T030722
CREATED:20250715T152209Z
LAST-MODIFIED:20250716T184504Z
UID:10002289-1872784800-1872792000@littlevillagepub.com
SUMMARY:Sunday Trivia
DESCRIPTION:Trivia at 6:00pm\n\n\n\n\nWin prizes with our friends from Get A Clu Trivia!\nWin gift cards\, swag prizes\, trophies and more.\nPLUS ALL DAY HAPPY HOUR!!!
URL:https://littlevillagepub.com/event/sunday-trivia/2029-05-06/
LOCATION:Little Village Pub\, 2670 Co Rd E East\, White Bear Lake\, MN\, 55110\, United States
ATTACH;FMTTYPE=image/jpeg:https://littlevillagepub.com/wp-content/uploads/2025/07/Sunday-Funday_trivia.jpg
END:VEVENT
BEGIN:VEVENT
DTSTART;TZID=America/Chicago:20290507T183000
DTEND;TZID=America/Chicago:20290507T213000
DTSTAMP:20260422T030722
CREATED:20250908T191848Z
LAST-MODIFIED:20250908T192059Z
UID:10000207-1872873000-1872883800@littlevillagepub.com
SUMMARY:COACH PURSE BINGO
DESCRIPTION:Win that purse you’ve always wanted\, every Monday except the 3rd Monday of each month!\nStarts at 6:30pm.\nHosted by: Merrick Inc Charitable Gambling
URL:https://littlevillagepub.com/event/coach-purse-bingo-2/2029-05-07/
LOCATION:Little Village Pub\, 2670 Co Rd E East\, White Bear Lake\, MN\, 55110\, United States
ATTACH;FMTTYPE=image/jpeg:https://littlevillagepub.com/wp-content/uploads/2025/07/Coach-Purse-Bingo_Monday_Xmas-crew.jpg
END:VEVENT
BEGIN:VEVENT
DTSTART;TZID=America/Chicago:20290508T170000
DTEND;TZID=America/Chicago:20290508T200000
DTSTAMP:20260422T030722
CREATED:20250715T150237Z
LAST-MODIFIED:20250716T184227Z
UID:10000466-1872954000-1872964800@littlevillagepub.com
SUMMARY:Kids Eat Free!!!
DESCRIPTION:KIDS EAT FREE!\n\n\n\n\nKids 12 and under eat free 5-8pm.\n\n\n\n\n1 free kids meal per 1 adult meal.
URL:https://littlevillagepub.com/event/kids-eat-free/2029-05-08/
LOCATION:Little Village Pub\, 2670 Co Rd E East\, White Bear Lake\, MN\, 55110\, United States
ATTACH;FMTTYPE=image/jpeg:https://littlevillagepub.com/wp-content/uploads/2025/07/kids-eat-free-5-26-25.jpg
END:VEVENT
BEGIN:VEVENT
DTSTART;TZID=America/Chicago:20290509T200000
DTEND;TZID=America/Chicago:20290509T235900
DTSTAMP:20260422T030722
CREATED:20250715T150507Z
LAST-MODIFIED:20250716T184124Z
UID:10000725-1873051200-1873065540@littlevillagepub.com
SUMMARY:Karaoke Night!
DESCRIPTION:KARAOKE NIGHT\n\n\n\n\nStarts at 8:00pm -12:00am every other Wed\nCome on in and sing Karaoke with Twilight Karaoke every other Wed night!
URL:https://littlevillagepub.com/event/karaoke-night/2029-05-09/
LOCATION:Little Village Pub\, 2670 Co Rd E East\, White Bear Lake\, MN\, 55110\, United States
ATTACH;FMTTYPE=image/png:https://littlevillagepub.com/wp-content/uploads/2025/07/Karaoke-Wednesdays-new-LVP.png
END:VEVENT
BEGIN:VEVENT
DTSTART;TZID=America/Chicago:20290511T173000
DTEND;TZID=America/Chicago:20290511T193000
DTSTAMP:20260422T030722
CREATED:20250715T151133Z
LAST-MODIFIED:20250717T180918Z
UID:10002550-1873215000-1873222200@littlevillagepub.com
SUMMARY:Meat Raffle
DESCRIPTION:Starts at 5:30pm\n\n\n\n\nWin some meats from Borchert Meat Market!
URL:https://littlevillagepub.com/event/meat-raffle/2029-05-11/
LOCATION:Little Village Pub\, 2670 Co Rd E East\, White Bear Lake\, MN\, 55110\, United States
ATTACH;FMTTYPE=image/jpeg:https://littlevillagepub.com/wp-content/uploads/2025/07/Meat-raffle-meat-dress.jpg
END:VEVENT
BEGIN:VEVENT
DTSTART;TZID=America/Chicago:20290512T090000
DTEND;TZID=America/Chicago:20290512T230000
DTSTAMP:20260422T030722
CREATED:20250715T151441Z
LAST-MODIFIED:20250716T184141Z
UID:10001241-1873270800-1873321200@littlevillagepub.com
SUMMARY:Saturday Breakfast Bingo
DESCRIPTION:Breakfast 8am | Bingo 9am.\n$1000 Coverall\, gift cards and more! Hosted by: Merrick Charitable Gambling 
URL:https://littlevillagepub.com/event/saturday-breakfast-bingo/2029-05-12/
LOCATION:Little Village Pub\, 2670 Co Rd E East\, White Bear Lake\, MN\, 55110\, United States
ATTACH;FMTTYPE=image/png:https://littlevillagepub.com/wp-content/uploads/2025/07/Saturday-Bingo-LVP.png
END:VEVENT
BEGIN:VEVENT
DTSTART;TZID=America/Chicago:20290512T210000
DTEND;TZID=America/Chicago:20290513T010000
DTSTAMP:20260422T030722
CREATED:20250715T151929Z
LAST-MODIFIED:20250716T184011Z
UID:10001499-1873314000-1873328400@littlevillagepub.com
SUMMARY:Saturday Night Karaoke
DESCRIPTION:Starts at 9:00pm -1:00am\n\n\n\n\nCome on in and sing Karaoke with Ick every Saturday night!
URL:https://littlevillagepub.com/event/saturday-night-karaoke/2029-05-12/
LOCATION:Little Village Pub\, 2670 Co Rd E East\, White Bear Lake\, MN\, 55110\, United States
ATTACH;FMTTYPE=image/jpeg:https://littlevillagepub.com/wp-content/uploads/2025/07/Karaoke_cable-guy.jpg
END:VEVENT
BEGIN:VEVENT
DTSTART;TZID=America/Chicago:20290513T090000
DTEND;TZID=America/Chicago:20290513T110000
DTSTAMP:20260422T030722
CREATED:20250908T191738Z
LAST-MODIFIED:20250908T191738Z
UID:10001757-1873357200-1873364400@littlevillagepub.com
SUMMARY:Sunday Breakfast Bingo
DESCRIPTION:Breakfast Bingo! 9am.\n$1000 Coverall\, gift cards and more! Hosted by: Merrick Charitable Gambling 
URL:https://littlevillagepub.com/event/sunday-breakfast-bingo-2/2029-05-13/
LOCATION:Little Village Pub\, 2670 Co Rd E East\, White Bear Lake\, MN\, 55110\, United States
ATTACH;FMTTYPE=image/png:https://littlevillagepub.com/wp-content/uploads/2025/03/Sunday-Bingo-LVP.png
END:VEVENT
BEGIN:VEVENT
DTSTART;TZID=America/Chicago:20290513T180000
DTEND;TZID=America/Chicago:20290513T200000
DTSTAMP:20260422T030722
CREATED:20250715T152209Z
LAST-MODIFIED:20250716T184504Z
UID:10002290-1873389600-1873396800@littlevillagepub.com
SUMMARY:Sunday Trivia
DESCRIPTION:Trivia at 6:00pm\n\n\n\n\nWin prizes with our friends from Get A Clu Trivia!\nWin gift cards\, swag prizes\, trophies and more.\nPLUS ALL DAY HAPPY HOUR!!!
URL:https://littlevillagepub.com/event/sunday-trivia/2029-05-13/
LOCATION:Little Village Pub\, 2670 Co Rd E East\, White Bear Lake\, MN\, 55110\, United States
ATTACH;FMTTYPE=image/jpeg:https://littlevillagepub.com/wp-content/uploads/2025/07/Sunday-Funday_trivia.jpg
END:VEVENT
END:VCALENDAR